BEGIN:VCALENDAR
VERSION:2.0
PRODID:-//destination.one//NONSGML destination.meta API//DE
X-WR-CALDESC:A calendar powered by destination.meta
X-WR-CALNAME:aletscharena Kalender via destination.meta
BEGIN:VEVENT
CATEGORIES:Ballsport
CATEGORIES:Freizeit
DESCRIPTION:Die Herbst-Golfturnierwoche findet auf der Riederalp statt.\n\n
 mehr Informationen unter http://pages.destination.one/de/aletscharena/stre
 aming/detail/Event/e_100274847/herbst-golfturnierwoche
DTEND;TZID=Europe/Zurich:20260905T170000
DTSTAMP:20260419T225346Z
DTSTART;TZID=Europe/Zurich:20260905T080000
GEO:46.378621;8.032763
LOCATION:Golfclub Riederalp\, Golf Sekretariat\, Riederalp
ORGANIZER;CN=Golfclub Riederalp:mailto:info@golfclub-riederalp.ch
RRULE:FREQ=DAILY;UNTIL=20260913T150000
SEQUENCE:0
SUMMARY:Herbst Golfturnierwoche
UID:e_100274847_iv0
URL:http://pages.destination.one/de/aletscharena/streaming/detail/Event/e_1
 00274847/herbst-golfturnierwoche
END:VEVENT
BEGIN:VTIMEZONE
TZID:Europe/Zurich
X-LIC-LOCATION:Europe/Zurich
BEGIN:DAYLIGHT
DTSTART:19700329T020000
RRULE:FREQ=YEARLY;BYDAY=-1SU;BYMONTH=3
TZNAME:CEST
TZOFFSETFROM:+0100
TZOFFSETTO:+0200
END:DAYLIGHT
BEGIN:STANDARD
DTSTART:19701025T030000
RRULE:FREQ=YEARLY;BYDAY=-1SU;BYMONTH=10
TZNAME:CET
TZOFFSETFROM:+0200
TZOFFSETTO:+0100
END:STANDARD
END:VTIMEZONE
END:VCALENDAR
