BEGIN:VCALENDAR
VERSION:2.0
PRODID:-//destination.one//NONSGML destination.meta API//DE
X-WR-CALDESC:A calendar powered by destination.meta
X-WR-CALNAME:aletscharena Kalender via destination.meta
BEGIN:VEVENT
CATEGORIES:Freizeit
CATEGORIES:Laufsport
DESCRIPTION:Das Lauferlebnis für alle Läuferinnen in Fiesch/Fieschertal und
  Umgebung.\n\nmehr Informationen unter http://pages.destination.one/de/ale
 tscharena/streaming/detail/Event/e_100274878/aletsch-frauenlauf
DTEND;TZID=Europe/Zurich:20260527T211500
DTSTAMP:20260419T225542Z
DTSTART;TZID=Europe/Zurich:20260527T190000
GEO:46.407094;8.136325
LOCATION:Tennis- und Fitnesscenter\, \, Fiesch
ORGANIZER;CN=Vorstand Frauenlauf:mailto:frauenlaufaletsch@gmail.com
SEQUENCE:0
SUMMARY:Aletsch Frauenlauf
UID:e_100274878_iv0
URL:http://pages.destination.one/de/aletscharena/streaming/detail/Event/e_1
 00274878/aletsch-frauenlauf
END:VEVENT
BEGIN:VTIMEZONE
TZID:Europe/Zurich
X-LIC-LOCATION:Europe/Zurich
BEGIN:DAYLIGHT
DTSTART:19700329T020000
RRULE:FREQ=YEARLY;BYDAY=-1SU;BYMONTH=3
TZNAME:CEST
TZOFFSETFROM:+0100
TZOFFSETTO:+0200
END:DAYLIGHT
BEGIN:STANDARD
DTSTART:19701025T030000
RRULE:FREQ=YEARLY;BYDAY=-1SU;BYMONTH=10
TZNAME:CET
TZOFFSETFROM:+0200
TZOFFSETTO:+0100
END:STANDARD
END:VTIMEZONE
END:VCALENDAR
