BEGIN:VCALENDAR
VERSION:2.0
PRODID:-//destination.one//NONSGML destination.meta API//DE
X-WR-CALDESC:A calendar powered by destination.meta
X-WR-CALNAME:aletscharena Kalender via destination.meta
BEGIN:VEVENT
CATEGORIES:Kultur
CATEGORIES:Umzug
CATEGORIES:Freizeit
DESCRIPTION:Kultur trifft Tradition: Nachttrichjen\n\nmehr Informationen un
 ter http://pages.destination.one/de/aletscharena/streaming/detail/Event/e_
 100274925/nachttrichjen-fiesch-fieschertal
DTEND;TZID=Europe/Zurich:20261205T230000
DTSTAMP:20260419T211505Z
DTSTART;TZID=Europe/Zurich:20261205T164500
GEO:46.403256;8.134783
LOCATION:Gemeindeverwaltung Fiesch\, Furkastrasse 44\, Fiesch
PRIORITY:4
SEQUENCE:0
SUMMARY:Nachttrichjen Fiesch-Fieschertal
UID:e_100274925_iv0
URL:http://pages.destination.one/de/aletscharena/streaming/detail/Event/e_1
 00274925/nachttrichjen-fiesch-fieschertal
END:VEVENT
BEGIN:VTIMEZONE
TZID:Europe/Zurich
X-LIC-LOCATION:Europe/Zurich
BEGIN:DAYLIGHT
DTSTART:19700329T020000
RRULE:FREQ=YEARLY;BYDAY=-1SU;BYMONTH=3
TZNAME:CEST
TZOFFSETFROM:+0100
TZOFFSETTO:+0200
END:DAYLIGHT
BEGIN:STANDARD
DTSTART:19701025T030000
RRULE:FREQ=YEARLY;BYDAY=-1SU;BYMONTH=10
TZNAME:CET
TZOFFSETFROM:+0200
TZOFFSETTO:+0100
END:STANDARD
END:VTIMEZONE
END:VCALENDAR
