BEGIN:VCALENDAR
VERSION:2.0
PRODID:-//destination.one//NONSGML destination.meta API//DE
X-WR-CALDESC:A calendar powered by destination.meta
X-WR-CALNAME:aletscharena Kalender via destination.meta
BEGIN:VEVENT
CATEGORIES:Freizeit
DESCRIPTION:Der perfekte Start in die Adventszeit!\n\nmehr Informationen un
 ter http://pages.destination.one/de/aletscharena/streaming/detail/Event/e_
 100274930/gommer-adventsm-rt
DTEND;TZID=Europe/Zurich:20261120T220000
DTSTAMP:20260421T104738Z
DTSTART;TZID=Europe/Zurich:20261120T180000
GEO:46.403256;8.134783
LOCATION:Gemeindeverwaltung Fiesch\, Furkastrasse 44\, Fiesch
ORGANIZER;CN=Gemeindeverwaltung Fiesch:mailto:info@gemeinde-fiesch.ch
PRIORITY:4
SEQUENCE:0
SUMMARY:Gommer Adventsmärt
UID:e_100274930_iv0
URL:http://pages.destination.one/de/aletscharena/streaming/detail/Event/e_1
 00274930/gommer-adventsm-rt
END:VEVENT
BEGIN:VEVENT
CATEGORIES:Freizeit
DESCRIPTION:Der perfekte Start in die Adventszeit!\n\nmehr Informationen un
 ter http://pages.destination.one/de/aletscharena/streaming/detail/Event/e_
 100274930/gommer-adventsm-rt
DTEND;TZID=Europe/Zurich:20261121T220000
DTSTAMP:20260421T104738Z
DTSTART;TZID=Europe/Zurich:20261121T140000
GEO:46.403256;8.134783
LOCATION:Gemeindeverwaltung Fiesch\, Furkastrasse 44\, Fiesch
ORGANIZER;CN=Gemeindeverwaltung Fiesch:mailto:info@gemeinde-fiesch.ch
PRIORITY:4
SEQUENCE:0
SUMMARY:Gommer Adventsmärt
UID:e_100274930_iv1
URL:http://pages.destination.one/de/aletscharena/streaming/detail/Event/e_1
 00274930/gommer-adventsm-rt
END:VEVENT
BEGIN:VEVENT
CATEGORIES:Freizeit
DESCRIPTION:Der perfekte Start in die Adventszeit!\n\nmehr Informationen un
 ter http://pages.destination.one/de/aletscharena/streaming/detail/Event/e_
 100274930/gommer-adventsm-rt
DTEND;TZID=Europe/Zurich:20261122T170000
DTSTAMP:20260421T104738Z
DTSTART;TZID=Europe/Zurich:20261122T103000
GEO:46.403256;8.134783
LOCATION:Gemeindeverwaltung Fiesch\, Furkastrasse 44\, Fiesch
ORGANIZER;CN=Gemeindeverwaltung Fiesch:mailto:info@gemeinde-fiesch.ch
PRIORITY:4
SEQUENCE:0
SUMMARY:Gommer Adventsmärt
UID:e_100274930_iv2
URL:http://pages.destination.one/de/aletscharena/streaming/detail/Event/e_1
 00274930/gommer-adventsm-rt
END:VEVENT
BEGIN:VTIMEZONE
TZID:Europe/Zurich
X-LIC-LOCATION:Europe/Zurich
BEGIN:DAYLIGHT
DTSTART:19700329T020000
RRULE:FREQ=YEARLY;BYDAY=-1SU;BYMONTH=3
TZNAME:CEST
TZOFFSETFROM:+0100
TZOFFSETTO:+0200
END:DAYLIGHT
BEGIN:STANDARD
DTSTART:19701025T030000
RRULE:FREQ=YEARLY;BYDAY=-1SU;BYMONTH=10
TZNAME:CET
TZOFFSETFROM:+0200
TZOFFSETTO:+0100
END:STANDARD
END:VTIMEZONE
END:VCALENDAR
