BEGIN:VCALENDAR
VERSION:2.0
PRODID:-//destination.one//NONSGML destination.meta API//DE
X-WR-CALDESC:A calendar powered by destination.meta
X-WR-CALNAME:aletscharena Kalender via destination.meta
BEGIN:VEVENT
CATEGORIES:Freizeit
CATEGORIES:Laufsport
DESCRIPTION:Laufklassiker im UNESCO Welterbe\n\nmehr Informationen unter ht
 tp://pages.destination.one/de/aletscharena/streaming/detail/Event/e_100274
 939/aletsch-halbmarathon-weekend
DTEND;TZID=Europe/Zurich:20260627T160000
DTSTAMP:20260419T223048Z
DTSTART;TZID=Europe/Zurich:20260627T140000
GEO:46.386268;8.057606
LOCATION:Aletsch Halbmarathon – Laufklassiker im UNESCO Welterbe\, \, Bettm
 eralp
PRIORITY:4
SEQUENCE:0
SUMMARY:Aletsch Halbmarathon Weekend
UID:e_100274939_iv0
URL:http://pages.destination.one/de/aletscharena/streaming/detail/Event/e_1
 00274939/aletsch-halbmarathon-weekend
END:VEVENT
BEGIN:VEVENT
CATEGORIES:Freizeit
CATEGORIES:Laufsport
DESCRIPTION:Laufklassiker im UNESCO Welterbe\n\nmehr Informationen unter ht
 tp://pages.destination.one/de/aletscharena/streaming/detail/Event/e_100274
 939/aletsch-halbmarathon-weekend
DTEND;TZID=Europe/Zurich:20260628T160000
DTSTAMP:20260419T223048Z
DTSTART;TZID=Europe/Zurich:20260628T093000
GEO:46.386268;8.057606
LOCATION:Aletsch Halbmarathon – Laufklassiker im UNESCO Welterbe\, \, Bettm
 eralp
PRIORITY:4
SEQUENCE:0
SUMMARY:Aletsch Halbmarathon Weekend
UID:e_100274939_iv1
URL:http://pages.destination.one/de/aletscharena/streaming/detail/Event/e_1
 00274939/aletsch-halbmarathon-weekend
END:VEVENT
BEGIN:VTIMEZONE
TZID:Europe/Zurich
X-LIC-LOCATION:Europe/Zurich
BEGIN:DAYLIGHT
DTSTART:19700329T020000
RRULE:FREQ=YEARLY;BYDAY=-1SU;BYMONTH=3
TZNAME:CEST
TZOFFSETFROM:+0100
TZOFFSETTO:+0200
END:DAYLIGHT
BEGIN:STANDARD
DTSTART:19701025T030000
RRULE:FREQ=YEARLY;BYDAY=-1SU;BYMONTH=10
TZNAME:CET
TZOFFSETFROM:+0200
TZOFFSETTO:+0100
END:STANDARD
END:VTIMEZONE
END:VCALENDAR
