BEGIN:VCALENDAR
VERSION:2.0
PRODID:-//destination.one//NONSGML destination.meta API//DE
X-WR-CALDESC:A calendar powered by destination.meta
X-WR-CALNAME:aletscharena Kalender via destination.meta
BEGIN:VEVENT
CATEGORIES:Freizeit
DESCRIPTION:Das Yogafestival am Aletschgletscher\n\nmehr Informationen unte
 r http://pages.destination.one/de/aletscharena/streaming/detail/Event/e_10
 0278270/mountain-glow
DTEND;TZID=Europe/Zurich:20260903T213000
DTSTAMP:20260419T222744Z
DTSTART;TZID=Europe/Zurich:20260903T100000
GEO:46.389007;8.061944
LOCATION:Mountain Glow\, Chalet la cordée\, Bettmeralp
ORGANIZER;CN=Karin Bittel:mailto:info@mountainglow.ch
PRIORITY:4
RRULE:FREQ=DAILY;UNTIL=20260906T193000
SEQUENCE:0
SUMMARY:Mountain Glow
UID:e_100278270_iv0
URL:http://pages.destination.one/de/aletscharena/streaming/detail/Event/e_1
 00278270/mountain-glow
END:VEVENT
BEGIN:VTIMEZONE
TZID:Europe/Zurich
X-LIC-LOCATION:Europe/Zurich
BEGIN:DAYLIGHT
DTSTART:19700329T020000
RRULE:FREQ=YEARLY;BYDAY=-1SU;BYMONTH=3
TZNAME:CEST
TZOFFSETFROM:+0100
TZOFFSETTO:+0200
END:DAYLIGHT
BEGIN:STANDARD
DTSTART:19701025T030000
RRULE:FREQ=YEARLY;BYDAY=-1SU;BYMONTH=10
TZNAME:CET
TZOFFSETFROM:+0200
TZOFFSETTO:+0100
END:STANDARD
END:VTIMEZONE
END:VCALENDAR
