BEGIN:VCALENDAR
VERSION:2.0
PRODID:-//destination.one//NONSGML destination.meta API//DE
X-WR-CALDESC:A calendar powered by destination.meta
X-WR-CALNAME:aletscharena Kalender via destination.meta
BEGIN:VEVENT
CATEGORIES:Brauchtum
CATEGORIES:Kultur
CATEGORIES:Exkursion
CATEGORIES:Gastronomie
CATEGORIES:Kulinarik
DESCRIPTION:Genussmomente und Gaumenfreuden kommen hier zusammen!\n\nmehr I
 nformationen unter http://pages.destination.one/de/aletscharena/streaming/
 detail/Event/e_100285918/der-jodlertreijb
DTEND;TZID=Europe/Zurich:20260829T200000
DTSTAMP:20260419T225159Z
DTSTART;TZID=Europe/Zurich:20260829T084500
GEO:46.377624;8.018045
LOCATION:Riederfurka (Der Jodlertreijb: Kulinarische Jodlerwanderung)\, \, 
 Riederalp
ORGANIZER;CN=Jodlerklub Riederalp:mailto:kummerfabrice@gmail.com
SEQUENCE:0
SUMMARY:Der Jodlertreijb
UID:e_100285918_iv0
URL:http://pages.destination.one/de/aletscharena/streaming/detail/Event/e_1
 00285918/der-jodlertreijb
END:VEVENT
BEGIN:VTIMEZONE
TZID:Europe/Zurich
X-LIC-LOCATION:Europe/Zurich
BEGIN:DAYLIGHT
DTSTART:19700329T020000
RRULE:FREQ=YEARLY;BYDAY=-1SU;BYMONTH=3
TZNAME:CEST
TZOFFSETFROM:+0100
TZOFFSETTO:+0200
END:DAYLIGHT
BEGIN:STANDARD
DTSTART:19701025T030000
RRULE:FREQ=YEARLY;BYDAY=-1SU;BYMONTH=10
TZNAME:CET
TZOFFSETFROM:+0200
TZOFFSETTO:+0100
END:STANDARD
END:VTIMEZONE
END:VCALENDAR
