BEGIN:VCALENDAR
VERSION:2.0
PRODID:-//destination.one//NONSGML destination.meta API//DE
X-WR-CALDESC:A calendar powered by destination.meta
X-WR-CALNAME:aletscharena Kalender via destination.meta
BEGIN:VEVENT
CATEGORIES:Laufsport
CATEGORIES:Luftsport
DESCRIPTION:Das Gleitschirm Hike and Fly Erlebnis in der Aletsch Arena!\n\n
 mehr Informationen unter http://pages.destination.one/de/aletscharena/stre
 aming/detail/Event/e_100296691/rollibocktrophy
DTEND;TZID=Europe/Zurich:20251003T203000
DTSTAMP:20260419T222745Z
DTSTART;TZID=Europe/Zurich:20251003T120000
GEO:46.409668;8.136705
LOCATION:Bistro Fly In\, Fieschertalstrasse 57\, Fiesch
PRIORITY:4
SEQUENCE:0
SUMMARY:Rollibocktrophy
UID:e_100296691_iv0
URL:http://pages.destination.one/de/aletscharena/streaming/detail/Event/e_1
 00296691/rollibocktrophy
END:VEVENT
BEGIN:VEVENT
CATEGORIES:Laufsport
CATEGORIES:Luftsport
DESCRIPTION:Das Gleitschirm Hike and Fly Erlebnis in der Aletsch Arena!\n\n
 mehr Informationen unter http://pages.destination.one/de/aletscharena/stre
 aming/detail/Event/e_100296691/rollibocktrophy
DTEND;TZID=Europe/Zurich:20251004T153000
DTSTAMP:20260419T222745Z
DTSTART;TZID=Europe/Zurich:20251004T070000
GEO:46.409668;8.136705
LOCATION:Bistro Fly In\, Fieschertalstrasse 57\, Fiesch
PRIORITY:4
SEQUENCE:0
SUMMARY:Rollibocktrophy
UID:e_100296691_iv1
URL:http://pages.destination.one/de/aletscharena/streaming/detail/Event/e_1
 00296691/rollibocktrophy
END:VEVENT
BEGIN:VEVENT
CATEGORIES:Laufsport
CATEGORIES:Luftsport
DESCRIPTION:Das Gleitschirm Hike and Fly Erlebnis in der Aletsch Arena!\n\n
 mehr Informationen unter http://pages.destination.one/de/aletscharena/stre
 aming/detail/Event/e_100296691/rollibocktrophy
DTEND;TZID=Europe/Zurich:20251005T120000
DTSTAMP:20260419T222745Z
DTSTART;TZID=Europe/Zurich:20251005T083000
GEO:46.409668;8.136705
LOCATION:Bistro Fly In\, Fieschertalstrasse 57\, Fiesch
PRIORITY:4
SEQUENCE:0
SUMMARY:Rollibocktrophy
UID:e_100296691_iv2
URL:http://pages.destination.one/de/aletscharena/streaming/detail/Event/e_1
 00296691/rollibocktrophy
END:VEVENT
BEGIN:VEVENT
CATEGORIES:Laufsport
CATEGORIES:Luftsport
DESCRIPTION:Das Gleitschirm Hike and Fly Erlebnis in der Aletsch Arena!\n\n
 mehr Informationen unter http://pages.destination.one/de/aletscharena/stre
 aming/detail/Event/e_100296691/rollibocktrophy
DTEND;TZID=Europe/Zurich:20261009T200000
DTSTAMP:20260419T222745Z
DTSTART;TZID=Europe/Zurich:20261009T080000
GEO:46.409668;8.136705
LOCATION:Bistro Fly In\, Fieschertalstrasse 57\, Fiesch
PRIORITY:4
RRULE:FREQ=DAILY;UNTIL=20261011T180000
SEQUENCE:0
SUMMARY:Rollibocktrophy
UID:e_100296691_iv3
URL:http://pages.destination.one/de/aletscharena/streaming/detail/Event/e_1
 00296691/rollibocktrophy
END:VEVENT
BEGIN:VTIMEZONE
TZID:Europe/Zurich
X-LIC-LOCATION:Europe/Zurich
BEGIN:DAYLIGHT
DTSTART:19700329T020000
RRULE:FREQ=YEARLY;BYDAY=-1SU;BYMONTH=3
TZNAME:CEST
TZOFFSETFROM:+0100
TZOFFSETTO:+0200
END:DAYLIGHT
BEGIN:STANDARD
DTSTART:19701025T030000
RRULE:FREQ=YEARLY;BYDAY=-1SU;BYMONTH=10
TZNAME:CET
TZOFFSETFROM:+0200
TZOFFSETTO:+0100
END:STANDARD
END:VTIMEZONE
END:VCALENDAR
