BEGIN:VCALENDAR
VERSION:2.0
PRODID:-//destination.one//NONSGML destination.meta API//DE
X-WR-CALDESC:A calendar powered by destination.meta
X-WR-CALNAME:aletscharena Kalender via destination.meta
BEGIN:VEVENT
CATEGORIES:Kultur
CATEGORIES:Fest
CATEGORIES:Gottesdienst
DESCRIPTION:Erlebe echte Walliser Alpentradition von damals und heute!\n\nm
 ehr Informationen unter http://pages.destination.one/de/aletscharena/strea
 ming/detail/Event/e_100310617/das-grosse-lplerfest
DTEND;TZID=Europe/Zurich:20260802T230000
DTSTAMP:20260419T222919Z
DTSTART;TZID=Europe/Zurich:20260802T100000
GEO:46.377846;8.027787
LOCATION:Sportplatz\, \, Riederalp
PRIORITY:4
SEQUENCE:0
SUMMARY:Das Grosse Älplerfest 
UID:e_100310617_iv0
URL:http://pages.destination.one/de/aletscharena/streaming/detail/Event/e_1
 00310617/das-grosse-lplerfest
END:VEVENT
BEGIN:VTIMEZONE
TZID:Europe/Zurich
X-LIC-LOCATION:Europe/Zurich
BEGIN:DAYLIGHT
DTSTART:19700329T020000
RRULE:FREQ=YEARLY;BYDAY=-1SU;BYMONTH=3
TZNAME:CEST
TZOFFSETFROM:+0100
TZOFFSETTO:+0200
END:DAYLIGHT
BEGIN:STANDARD
DTSTART:19701025T030000
RRULE:FREQ=YEARLY;BYDAY=-1SU;BYMONTH=10
TZNAME:CET
TZOFFSETFROM:+0200
TZOFFSETTO:+0100
END:STANDARD
END:VTIMEZONE
END:VCALENDAR
