BEGIN:VCALENDAR
VERSION:2.0
PRODID:-//destination.one//NONSGML destination.meta API//DE
X-WR-CALDESC:A calendar powered by destination.meta
X-WR-CALNAME:aletscharena Kalender via destination.meta
BEGIN:VEVENT
CATEGORIES:Folklore
CATEGORIES:Fest
CATEGORIES:Gastronomie
DESCRIPTION:Wo sich traditionell Gäste und Einheimische treffen.\n\nmehr In
 formationen unter http://pages.destination.one/de/aletscharena/streaming/d
 etail/Event/e_100310643/seefest
DTEND;TZID=Europe/Zurich:20260726T210000
DTSTAMP:20260419T222638Z
DTSTART;TZID=Europe/Zurich:20260726T100000
GEO:46.393950;8.060875
LOCATION:Bettmersee\, \, Bettmeralp
PRIORITY:4
SEQUENCE:0
SUMMARY:Seefest
UID:e_100310643_iv0
URL:http://pages.destination.one/de/aletscharena/streaming/detail/Event/e_1
 00310643/seefest
END:VEVENT
BEGIN:VTIMEZONE
TZID:Europe/Zurich
X-LIC-LOCATION:Europe/Zurich
BEGIN:DAYLIGHT
DTSTART:19700329T020000
RRULE:FREQ=YEARLY;BYDAY=-1SU;BYMONTH=3
TZNAME:CEST
TZOFFSETFROM:+0100
TZOFFSETTO:+0200
END:DAYLIGHT
BEGIN:STANDARD
DTSTART:19701025T030000
RRULE:FREQ=YEARLY;BYDAY=-1SU;BYMONTH=10
TZNAME:CET
TZOFFSETFROM:+0200
TZOFFSETTO:+0100
END:STANDARD
END:VTIMEZONE
END:VCALENDAR
