BEGIN:VCALENDAR
VERSION:2.0
PRODID:-//destination.one//NONSGML destination.meta API//DE
X-WR-CALDESC:A calendar powered by destination.meta
X-WR-CALNAME:aletscharena Kalender via destination.meta
BEGIN:VEVENT
CATEGORIES:Ausstellung
CATEGORIES:Feier
CATEGORIES:Gottesdienst
CATEGORIES:Gastronomie
DESCRIPTION:Sir Ernest Cassel lädt ein\n\nmehr Informationen unter http://p
 ages.destination.one/de/aletscharena/streaming/detail/Event/e_100328599/ca
 sselfest
DTEND;TZID=Europe/Zurich:20260809T160000
DTSTAMP:20260419T222743Z
DTSTART;TZID=Europe/Zurich:20260809T104500
GEO:46.376521;8.016173
LOCATION:Pro Natura Zentrum Aletsch\, \, Riederalp
PRIORITY:4
SEQUENCE:0
SUMMARY:Casselfest
UID:e_100328599_iv0
URL:http://pages.destination.one/de/aletscharena/streaming/detail/Event/e_1
 00328599/casselfest
END:VEVENT
BEGIN:VTIMEZONE
TZID:Europe/Zurich
X-LIC-LOCATION:Europe/Zurich
BEGIN:DAYLIGHT
DTSTART:19700329T020000
RRULE:FREQ=YEARLY;BYDAY=-1SU;BYMONTH=3
TZNAME:CEST
TZOFFSETFROM:+0100
TZOFFSETTO:+0200
END:DAYLIGHT
BEGIN:STANDARD
DTSTART:19701025T030000
RRULE:FREQ=YEARLY;BYDAY=-1SU;BYMONTH=10
TZNAME:CET
TZOFFSETFROM:+0200
TZOFFSETTO:+0100
END:STANDARD
END:VTIMEZONE
END:VCALENDAR
