BEGIN:VCALENDAR
VERSION:2.0
PRODID:-//destination.one//NONSGML destination.meta API//DE
X-WR-CALDESC:A calendar powered by destination.meta
X-WR-CALNAME:aletscharena Kalender via destination.meta
BEGIN:VEVENT
CATEGORIES:Brauchtum
CATEGORIES:Folklore
CATEGORIES:Handwerk
CATEGORIES:Fest
CATEGORIES:Gastronomie
DESCRIPTION:Inschi Choscht\, inschers Handwärch\, inschi Traditione!\n\nmeh
 r Informationen unter http://pages.destination.one/de/aletscharena/streami
 ng/detail/Event/e_100331000/traditions-wuchun-nd-bettmeralp
DTEND;TZID=Europe/Zurich:20260918T230000
DTSTAMP:20260419T224418Z
DTSTART;TZID=Europe/Zurich:20260918T160000
GEO:46.389540;8.060907
LOCATION:Infocenter Bettmeralp\, Hauptstrasse 87\, Bettmeralp
ORGANIZER;CN=Aletsch Arena AG:mailto:info@aletscharena.ch
PRIORITY:4
SEQUENCE:0
SUMMARY:Traditions-Wuchunänd Bettmeralp
UID:e_100331000_iv0
URL:http://pages.destination.one/de/aletscharena/streaming/detail/Event/e_1
 00331000/traditions-wuchun-nd-bettmeralp
END:VEVENT
BEGIN:VEVENT
CATEGORIES:Brauchtum
CATEGORIES:Folklore
CATEGORIES:Handwerk
CATEGORIES:Fest
CATEGORIES:Gastronomie
DESCRIPTION:Inschi Choscht\, inschers Handwärch\, inschi Traditione!\n\nmeh
 r Informationen unter http://pages.destination.one/de/aletscharena/streami
 ng/detail/Event/e_100331000/traditions-wuchun-nd-bettmeralp
DTEND;TZID=Europe/Zurich:20260920T020000
DTSTAMP:20260419T224418Z
DTSTART;TZID=Europe/Zurich:20260919T090000
GEO:46.389540;8.060907
LOCATION:Infocenter Bettmeralp\, Hauptstrasse 87\, Bettmeralp
ORGANIZER;CN=Aletsch Arena AG:mailto:info@aletscharena.ch
PRIORITY:4
SEQUENCE:0
SUMMARY:Traditions-Wuchunänd Bettmeralp
UID:e_100331000_iv1
URL:http://pages.destination.one/de/aletscharena/streaming/detail/Event/e_1
 00331000/traditions-wuchun-nd-bettmeralp
END:VEVENT
BEGIN:VEVENT
CATEGORIES:Brauchtum
CATEGORIES:Folklore
CATEGORIES:Handwerk
CATEGORIES:Fest
CATEGORIES:Gastronomie
DESCRIPTION:Inschi Choscht\, inschers Handwärch\, inschi Traditione!\n\nmeh
 r Informationen unter http://pages.destination.one/de/aletscharena/streami
 ng/detail/Event/e_100331000/traditions-wuchun-nd-bettmeralp
DTEND;TZID=Europe/Zurich:20260920T170000
DTSTAMP:20260419T224418Z
DTSTART;TZID=Europe/Zurich:20260920T100000
GEO:46.389540;8.060907
LOCATION:Infocenter Bettmeralp\, Hauptstrasse 87\, Bettmeralp
ORGANIZER;CN=Aletsch Arena AG:mailto:info@aletscharena.ch
PRIORITY:4
SEQUENCE:0
SUMMARY:Traditions-Wuchunänd Bettmeralp
UID:e_100331000_iv2
URL:http://pages.destination.one/de/aletscharena/streaming/detail/Event/e_1
 00331000/traditions-wuchun-nd-bettmeralp
END:VEVENT
BEGIN:VTIMEZONE
TZID:Europe/Zurich
X-LIC-LOCATION:Europe/Zurich
BEGIN:DAYLIGHT
DTSTART:19700329T020000
RRULE:FREQ=YEARLY;BYDAY=-1SU;BYMONTH=3
TZNAME:CEST
TZOFFSETFROM:+0100
TZOFFSETTO:+0200
END:DAYLIGHT
BEGIN:STANDARD
DTSTART:19701025T030000
RRULE:FREQ=YEARLY;BYDAY=-1SU;BYMONTH=10
TZNAME:CET
TZOFFSETFROM:+0200
TZOFFSETTO:+0100
END:STANDARD
END:VTIMEZONE
END:VCALENDAR
