BEGIN:VCALENDAR
VERSION:2.0
PRODID:-//destination.one//NONSGML destination.meta API//DE
X-WR-CALDESC:A calendar powered by destination.meta
X-WR-CALNAME:aletscharena Kalender via destination.meta
BEGIN:VEVENT
CATEGORIES:Laufsport
DESCRIPTION:Run it for the Beauty - Go for the Bell.\n\nmehr Informationen 
 unter http://pages.destination.one/de/aletscharena/streaming/detail/Event/
 e_100337960/swiss-alps-100
DTEND;TZID=Europe/Zurich:20260807T150000
DTSTAMP:20260419T225350Z
DTSTART;TZID=Europe/Zurich:20260807T110000
GEO:46.398819;8.131020
LOCATION:Sport Resort Fiesch\, Feriendorf 1\, Fiesch
PRIORITY:4
SEQUENCE:0
SUMMARY:Swiss Alps 100
UID:e_100337960_iv0
URL:http://pages.destination.one/de/aletscharena/streaming/detail/Event/e_1
 00337960/swiss-alps-100
END:VEVENT
BEGIN:VEVENT
CATEGORIES:Laufsport
DESCRIPTION:Run it for the Beauty - Go for the Bell.\n\nmehr Informationen 
 unter http://pages.destination.one/de/aletscharena/streaming/detail/Event/
 e_100337960/swiss-alps-100
DTEND;TZID=Europe/Zurich:20260808T200000
DTSTAMP:20260419T225350Z
DTSTART;TZID=Europe/Zurich:20260808T053000
GEO:46.398819;8.131020
LOCATION:Sport Resort Fiesch\, Feriendorf 1\, Fiesch
PRIORITY:4
SEQUENCE:0
SUMMARY:Swiss Alps 100
UID:e_100337960_iv1
URL:http://pages.destination.one/de/aletscharena/streaming/detail/Event/e_1
 00337960/swiss-alps-100
END:VEVENT
BEGIN:VEVENT
CATEGORIES:Laufsport
DESCRIPTION:Run it for the Beauty - Go for the Bell.\n\nmehr Informationen 
 unter http://pages.destination.one/de/aletscharena/streaming/detail/Event/
 e_100337960/swiss-alps-100
DTEND;TZID=Europe/Zurich:20260809T210000
DTSTAMP:20260419T225350Z
DTSTART;TZID=Europe/Zurich:20260809T043000
GEO:46.398819;8.131020
LOCATION:Sport Resort Fiesch\, Feriendorf 1\, Fiesch
PRIORITY:4
SEQUENCE:0
SUMMARY:Swiss Alps 100
UID:e_100337960_iv2
URL:http://pages.destination.one/de/aletscharena/streaming/detail/Event/e_1
 00337960/swiss-alps-100
END:VEVENT
BEGIN:VTIMEZONE
TZID:Europe/Zurich
X-LIC-LOCATION:Europe/Zurich
BEGIN:DAYLIGHT
DTSTART:19700329T020000
RRULE:FREQ=YEARLY;BYDAY=-1SU;BYMONTH=3
TZNAME:CEST
TZOFFSETFROM:+0100
TZOFFSETTO:+0200
END:DAYLIGHT
BEGIN:STANDARD
DTSTART:19701025T030000
RRULE:FREQ=YEARLY;BYDAY=-1SU;BYMONTH=10
TZNAME:CET
TZOFFSETFROM:+0200
TZOFFSETTO:+0100
END:STANDARD
END:VTIMEZONE
END:VCALENDAR
