BEGIN:VCALENDAR
VERSION:2.0
PRODID:-//destination.one//NONSGML destination.meta API//DE
X-WR-CALDESC:A calendar powered by destination.meta
X-WR-CALNAME:aletscharena Kalender via destination.meta
BEGIN:VEVENT
CATEGORIES:Kultur
CATEGORIES:Konzert
DESCRIPTION:Erlebe einen musikalischen Abend\n\nmehr Informationen unter ht
 tp://pages.destination.one/de/aletscharena/streaming/detail/Event/e_100941
 535/jahreskonzert-mg-eggishorn
DTEND;TZID=Europe/Zurich:20260501T230000
DTSTAMP:20260419T224548Z
DTSTART;TZID=Europe/Zurich:20260501T200000
GEO:46.403835;8.135591
LOCATION:Gemeindesaal Rondo\, Furkastrasse 46\, Fiesch
ORGANIZER;CN=Musikgesellschaft Eggishorn Fiesch:mailto:info@mg-eggishorn.ch
SEQUENCE:0
SUMMARY:Jahreskonzert MG Eggishorn
UID:e_100941535_iv0
URL:http://pages.destination.one/de/aletscharena/streaming/detail/Event/e_1
 00941535/jahreskonzert-mg-eggishorn
END:VEVENT
BEGIN:VTIMEZONE
TZID:Europe/Zurich
X-LIC-LOCATION:Europe/Zurich
BEGIN:DAYLIGHT
DTSTART:19700329T020000
RRULE:FREQ=YEARLY;BYDAY=-1SU;BYMONTH=3
TZNAME:CEST
TZOFFSETFROM:+0100
TZOFFSETTO:+0200
END:DAYLIGHT
BEGIN:STANDARD
DTSTART:19701025T030000
RRULE:FREQ=YEARLY;BYDAY=-1SU;BYMONTH=10
TZNAME:CET
TZOFFSETFROM:+0200
TZOFFSETTO:+0100
END:STANDARD
END:VTIMEZONE
END:VCALENDAR
