BEGIN:VCALENDAR
VERSION:2.0
PRODID:-//destination.one//NONSGML destination.meta API//DE
X-WR-CALDESC:A calendar powered by destination.meta
X-WR-CALNAME:aletscharena Kalender via destination.meta
BEGIN:VEVENT
CATEGORIES:Turnen
CATEGORIES:Zirkus
DESCRIPTION:Werde zum Artisten. Dich erwartet eine Woche voller spannender 
 Momente in der Manege.\n\nmehr Informationen unter http://pages.destinatio
 n.one/de/aletscharena/streaming/detail/Event/e_100953714/mitmachzirkus-f-r
 -kids-und-teens
DTEND;TZID=Europe/Zurich:20260720T153000
DTSTAMP:20260419T231525Z
DTSTART;TZID=Europe/Zurich:20260720T093000
GEO:46.392071;8.063192
LOCATION:Sportzentrum Bachtla\, Tanzbodenstrasse 4\, Bettmeralp
ORGANIZER;CN=Zirkusschule Marotte:mailto:kontakt@marotte.ch
PRIORITY:4
RRULE:FREQ=WEEKLY;UNTIL=20260723T133000;BYDAY=MO,TU,WE,TH,FR
SEQUENCE:0
SUMMARY:Mitmachzirkus für Kids und Teens
UID:e_100953714_iv0
URL:http://pages.destination.one/de/aletscharena/streaming/detail/Event/e_1
 00953714/mitmachzirkus-f-r-kids-und-teens
END:VEVENT
BEGIN:VEVENT
CATEGORIES:Turnen
CATEGORIES:Zirkus
DESCRIPTION:Werde zum Artisten. Dich erwartet eine Woche voller spannender 
 Momente in der Manege.\n\nmehr Informationen unter http://pages.destinatio
 n.one/de/aletscharena/streaming/detail/Event/e_100953714/mitmachzirkus-f-r
 -kids-und-teens
DTEND;TZID=Europe/Zurich:20260724T130000
DTSTAMP:20260419T231525Z
DTSTART;TZID=Europe/Zurich:20260724T093000
GEO:46.392071;8.063192
LOCATION:Sportzentrum Bachtla\, Tanzbodenstrasse 4\, Bettmeralp
ORGANIZER;CN=Zirkusschule Marotte:mailto:kontakt@marotte.ch
PRIORITY:4
SEQUENCE:0
SUMMARY:Mitmachzirkus für Kids und Teens
UID:e_100953714_iv1
URL:http://pages.destination.one/de/aletscharena/streaming/detail/Event/e_1
 00953714/mitmachzirkus-f-r-kids-und-teens
END:VEVENT
BEGIN:VEVENT
CATEGORIES:Turnen
CATEGORIES:Zirkus
DESCRIPTION:Werde zum Artisten. Dich erwartet eine Woche voller spannender 
 Momente in der Manege.\n\nmehr Informationen unter http://pages.destinatio
 n.one/de/aletscharena/streaming/detail/Event/e_100953714/mitmachzirkus-f-r
 -kids-und-teens
DTEND;TZID=Europe/Zurich:20260727T153000
DTSTAMP:20260419T231525Z
DTSTART;TZID=Europe/Zurich:20260727T093000
GEO:46.392071;8.063192
LOCATION:Sportzentrum Bachtla\, Tanzbodenstrasse 4\, Bettmeralp
ORGANIZER;CN=Zirkusschule Marotte:mailto:kontakt@marotte.ch
PRIORITY:4
RRULE:FREQ=WEEKLY;UNTIL=20260730T133000;BYDAY=MO,TU,WE,TH,FR
SEQUENCE:0
SUMMARY:Mitmachzirkus für Kids und Teens
UID:e_100953714_iv2
URL:http://pages.destination.one/de/aletscharena/streaming/detail/Event/e_1
 00953714/mitmachzirkus-f-r-kids-und-teens
END:VEVENT
BEGIN:VEVENT
CATEGORIES:Turnen
CATEGORIES:Zirkus
DESCRIPTION:Werde zum Artisten. Dich erwartet eine Woche voller spannender 
 Momente in der Manege.\n\nmehr Informationen unter http://pages.destinatio
 n.one/de/aletscharena/streaming/detail/Event/e_100953714/mitmachzirkus-f-r
 -kids-und-teens
DTEND;TZID=Europe/Zurich:20260731T130000
DTSTAMP:20260419T231525Z
DTSTART;TZID=Europe/Zurich:20260731T093000
GEO:46.392071;8.063192
LOCATION:Sportzentrum Bachtla\, Tanzbodenstrasse 4\, Bettmeralp
ORGANIZER;CN=Zirkusschule Marotte:mailto:kontakt@marotte.ch
PRIORITY:4
SEQUENCE:0
SUMMARY:Mitmachzirkus für Kids und Teens
UID:e_100953714_iv3
URL:http://pages.destination.one/de/aletscharena/streaming/detail/Event/e_1
 00953714/mitmachzirkus-f-r-kids-und-teens
END:VEVENT
BEGIN:VTIMEZONE
TZID:Europe/Zurich
X-LIC-LOCATION:Europe/Zurich
BEGIN:DAYLIGHT
DTSTART:19700329T020000
RRULE:FREQ=YEARLY;BYDAY=-1SU;BYMONTH=3
TZNAME:CEST
TZOFFSETFROM:+0100
TZOFFSETTO:+0200
END:DAYLIGHT
BEGIN:STANDARD
DTSTART:19701025T030000
RRULE:FREQ=YEARLY;BYDAY=-1SU;BYMONTH=10
TZNAME:CET
TZOFFSETFROM:+0200
TZOFFSETTO:+0100
END:STANDARD
END:VTIMEZONE
END:VCALENDAR
