BEGIN:VCALENDAR
VERSION:2.0
PRODID:-//destination.one//NONSGML destination.meta API//DE
X-WR-CALDESC:A calendar powered by destination.meta
X-WR-CALNAME:aletscharena Kalender via destination.meta
BEGIN:VEVENT
CATEGORIES:Kunst
CATEGORIES:Fest
CATEGORIES:Entspannung
DESCRIPTION:Musik\, Rituale und Tanzen\n\nmehr Informationen unter http://p
 ages.destination.one/de/aletscharena/streaming/detail/Event/e_100963789/sp
 irit-of-the-drum
DTEND;TZID=Europe/Zurich:20250830T170000
DTSTAMP:20260424T093625Z
DTSTART;TZID=Europe/Zurich:20250830T100000
GEO:46.390014;8.062527
LOCATION:Zentrum St. Michael\, \, Bettmeralp
ORGANIZER;CN=Steffis Chritter Seelechraft:mailto:info@seelechraft.ch
RRULE:FREQ=DAILY;UNTIL=20250831T150000
SEQUENCE:0
SUMMARY:Spirit of the Drum
UID:e_100963789_iv0
URL:http://pages.destination.one/de/aletscharena/streaming/detail/Event/e_1
 00963789/spirit-of-the-drum
END:VEVENT
BEGIN:VEVENT
CATEGORIES:Kunst
CATEGORIES:Fest
CATEGORIES:Entspannung
DESCRIPTION:Musik\, Rituale und Tanzen\n\nmehr Informationen unter http://p
 ages.destination.one/de/aletscharena/streaming/detail/Event/e_100963789/sp
 irit-of-the-drum
DTEND;TZID=Europe/Zurich:20260828T160000
DTSTAMP:20260424T093625Z
DTSTART;TZID=Europe/Zurich:20260828T100000
GEO:46.390014;8.062527
LOCATION:Zentrum St. Michael\, \, Bettmeralp
ORGANIZER;CN=Steffis Chritter Seelechraft:mailto:info@seelechraft.ch
RRULE:FREQ=DAILY;UNTIL=20260830T140000
SEQUENCE:0
SUMMARY:Spirit of the Drum
UID:e_100963789_iv1
URL:http://pages.destination.one/de/aletscharena/streaming/detail/Event/e_1
 00963789/spirit-of-the-drum
END:VEVENT
BEGIN:VTIMEZONE
TZID:Europe/Zurich
X-LIC-LOCATION:Europe/Zurich
BEGIN:DAYLIGHT
DTSTART:19700329T020000
RRULE:FREQ=YEARLY;BYDAY=-1SU;BYMONTH=3
TZNAME:CEST
TZOFFSETFROM:+0100
TZOFFSETTO:+0200
END:DAYLIGHT
BEGIN:STANDARD
DTSTART:19701025T030000
RRULE:FREQ=YEARLY;BYDAY=-1SU;BYMONTH=10
TZNAME:CET
TZOFFSETFROM:+0200
TZOFFSETTO:+0100
END:STANDARD
END:VTIMEZONE
END:VCALENDAR
