BEGIN:VCALENDAR
VERSION:2.0
PRODID:-//destination.one//NONSGML destination.meta API//DE
X-WR-CALDESC:A calendar powered by destination.meta
X-WR-CALNAME:aletscharena Kalender via destination.meta
BEGIN:VEVENT
CATEGORIES:Kultur
CATEGORIES:Fest
CATEGORIES:Gastronomie
CATEGORIES:Umzug
DESCRIPTION:Kulinarischer Rundgang durchs Dorf\n\nmehr Informationen unter 
 http://pages.destination.one/de/aletscharena/streaming/detail/Event/e_1009
 67039/riedercheer-in-ried-m-rel
DTEND;TZID=Europe/Zurich:20260816T000000
DTSTAMP:20260419T224251Z
DTSTART;TZID=Europe/Zurich:20260815T090000
GEO:46.356613;8.031139
LOCATION:Wyssen Caroline \, Hauptstrasse 16\, Ried-Mörel
ORGANIZER;CN=Wyssen Caroline :mailto:riedercheer@gmail.com
SEQUENCE:0
SUMMARY:Riedercheer in Ried-Mörel
UID:e_100967039_iv0
URL:http://pages.destination.one/de/aletscharena/streaming/detail/Event/e_1
 00967039/riedercheer-in-ried-m-rel
END:VEVENT
BEGIN:VTIMEZONE
TZID:Europe/Zurich
X-LIC-LOCATION:Europe/Zurich
BEGIN:DAYLIGHT
DTSTART:19700329T020000
RRULE:FREQ=YEARLY;BYDAY=-1SU;BYMONTH=3
TZNAME:CEST
TZOFFSETFROM:+0100
TZOFFSETTO:+0200
END:DAYLIGHT
BEGIN:STANDARD
DTSTART:19701025T030000
RRULE:FREQ=YEARLY;BYDAY=-1SU;BYMONTH=10
TZNAME:CET
TZOFFSETFROM:+0200
TZOFFSETTO:+0100
END:STANDARD
END:VTIMEZONE
END:VCALENDAR
