BEGIN:VCALENDAR
VERSION:2.0
PRODID:-//destination.one//NONSGML destination.meta API//DE
X-WR-CALDESC:A calendar powered by destination.meta
X-WR-CALNAME:aletscharena Kalender via destination.meta
BEGIN:VEVENT
CATEGORIES:Konzert
CATEGORIES:Festival
DESCRIPTION:Open Air Kino\n\nmehr Informationen unter http://pages.destinat
 ion.one/de/aletscharena/streaming/detail/Event/e_101044264/sommer-festival
 -open-air-kino
DTEND;TZID=Europe/Zurich:20260828T230000
DTSTAMP:20260419T231033Z
DTSTART;TZID=Europe/Zurich:20260828T180000
GEO:46.388482;8.120184
LOCATION:Verein reLAX Kultur\, Furkastrasse 46\, Lax
ORGANIZER;CN=Verein reLAX Kultur:mailto:simon.imhasly@lax.ch
RRULE:FREQ=DAILY;UNTIL=20260829T210000
SEQUENCE:0
SUMMARY:Sommer Festival Open Air Kino
UID:e_101044264_iv0
URL:http://pages.destination.one/de/aletscharena/streaming/detail/Event/e_1
 01044264/sommer-festival-open-air-kino
END:VEVENT
BEGIN:VTIMEZONE
TZID:Europe/Zurich
X-LIC-LOCATION:Europe/Zurich
BEGIN:DAYLIGHT
DTSTART:19700329T020000
RRULE:FREQ=YEARLY;BYDAY=-1SU;BYMONTH=3
TZNAME:CEST
TZOFFSETFROM:+0100
TZOFFSETTO:+0200
END:DAYLIGHT
BEGIN:STANDARD
DTSTART:19701025T030000
RRULE:FREQ=YEARLY;BYDAY=-1SU;BYMONTH=10
TZNAME:CET
TZOFFSETFROM:+0200
TZOFFSETTO:+0100
END:STANDARD
END:VTIMEZONE
END:VCALENDAR
