BEGIN:VCALENDAR
VERSION:2.0
PRODID:-//destination.one//NONSGML destination.meta API//DE
X-WR-CALDESC:A calendar powered by destination.meta
X-WR-CALNAME:aletscharena Kalender via destination.meta
BEGIN:VEVENT
CATEGORIES:Animation
CATEGORIES:Kurs
DESCRIPTION:Retreat\n\nmehr Informationen unter http://pages.destination.on
 e/de/aletscharena/streaming/detail/Event/e_101087334/wim-hof-retreat
DTEND;TZID=Europe/Zurich;VALUE=DATE:20260621
DTSTAMP:20260419T224036Z
DTSTART;TZID=Europe/Zurich;VALUE=DATE:20260618
GEO:46.377817;8.029375
LOCATION:Golfhotel Riederhof\, Aletschpromenade 25\, Riederalp
ORGANIZER;CN=Jennifer Quénard und Dominique Andereggen:mailto:info@flussrei
 f.ch
SEQUENCE:0
SUMMARY:Wim Hof Retreat
UID:e_101087334_iv0
URL:http://pages.destination.one/de/aletscharena/streaming/detail/Event/e_1
 01087334/wim-hof-retreat
END:VEVENT
BEGIN:VEVENT
CATEGORIES:Animation
CATEGORIES:Kurs
DESCRIPTION:Retreat\n\nmehr Informationen unter http://pages.destination.on
 e/de/aletscharena/streaming/detail/Event/e_101087334/wim-hof-retreat
DTEND;TZID=Europe/Zurich;VALUE=DATE:20261019
DTSTAMP:20260419T224036Z
DTSTART;TZID=Europe/Zurich;VALUE=DATE:20261015
GEO:46.377817;8.029375
LOCATION:Golfhotel Riederhof\, Aletschpromenade 25\, Riederalp
ORGANIZER;CN=Jennifer Quénard und Dominique Andereggen:mailto:info@flussrei
 f.ch
SEQUENCE:0
SUMMARY:Wim Hof Retreat
UID:e_101087334_iv1
URL:http://pages.destination.one/de/aletscharena/streaming/detail/Event/e_1
 01087334/wim-hof-retreat
END:VEVENT
BEGIN:VTIMEZONE
TZID:Europe/Zurich
X-LIC-LOCATION:Europe/Zurich
BEGIN:DAYLIGHT
DTSTART:19700329T020000
RRULE:FREQ=YEARLY;BYDAY=-1SU;BYMONTH=3
TZNAME:CEST
TZOFFSETFROM:+0100
TZOFFSETTO:+0200
END:DAYLIGHT
BEGIN:STANDARD
DTSTART:19701025T030000
RRULE:FREQ=YEARLY;BYDAY=-1SU;BYMONTH=10
TZNAME:CET
TZOFFSETFROM:+0200
TZOFFSETTO:+0100
END:STANDARD
END:VTIMEZONE
END:VCALENDAR
