BEGIN:VCALENDAR
VERSION:2.0
PRODID:-//destination.one//NONSGML destination.meta API//DE
X-WR-CALDESC:A calendar powered by destination.meta
X-WR-CALNAME:aletscharena Kalender via destination.meta
BEGIN:VEVENT
CATEGORIES:Radsport
DESCRIPTION:Natur trifft Nervenkitzel\n\nmehr Informationen unter http://pa
 ges.destination.one/de/aletscharena/streaming/detail/Event/e_101117690/uci
 -mountainbike-enduro-weltcup
DTEND;TZID=Europe/Zurich:20260716T170000
DTSTAMP:20260419T231333Z
DTSTART;TZID=Europe/Zurich:20260716T080000
GEO:46.403329;8.135046
LOCATION:UCI Enduro World Cup\, Fieschertalstrasse 1 (ÖV-Hub)\, Fiesch
PRIORITY:4
SEQUENCE:0
SUMMARY:UCI Mountainbike Enduro Weltcup
UID:e_101117690_iv0
URL:http://pages.destination.one/de/aletscharena/streaming/detail/Event/e_1
 01117690/uci-mountainbike-enduro-weltcup
END:VEVENT
BEGIN:VEVENT
CATEGORIES:Radsport
DESCRIPTION:Natur trifft Nervenkitzel\n\nmehr Informationen unter http://pa
 ges.destination.one/de/aletscharena/streaming/detail/Event/e_101117690/uci
 -mountainbike-enduro-weltcup
DTEND;TZID=Europe/Zurich:20260717T180000
DTSTAMP:20260419T231333Z
DTSTART;TZID=Europe/Zurich:20260717T080000
GEO:46.403329;8.135046
LOCATION:UCI Enduro World Cup\, Fieschertalstrasse 1 (ÖV-Hub)\, Fiesch
PRIORITY:4
SEQUENCE:0
SUMMARY:UCI Mountainbike Enduro Weltcup
UID:e_101117690_iv1
URL:http://pages.destination.one/de/aletscharena/streaming/detail/Event/e_1
 01117690/uci-mountainbike-enduro-weltcup
END:VEVENT
BEGIN:VEVENT
CATEGORIES:Radsport
DESCRIPTION:Natur trifft Nervenkitzel\n\nmehr Informationen unter http://pa
 ges.destination.one/de/aletscharena/streaming/detail/Event/e_101117690/uci
 -mountainbike-enduro-weltcup
DTEND;TZID=Europe/Zurich:20260718T180000
DTSTAMP:20260419T231333Z
DTSTART;TZID=Europe/Zurich:20260718T080000
GEO:46.403329;8.135046
LOCATION:UCI Enduro World Cup\, Fieschertalstrasse 1 (ÖV-Hub)\, Fiesch
PRIORITY:4
SEQUENCE:0
SUMMARY:UCI Mountainbike Enduro Weltcup
UID:e_101117690_iv2
URL:http://pages.destination.one/de/aletscharena/streaming/detail/Event/e_1
 01117690/uci-mountainbike-enduro-weltcup
END:VEVENT
BEGIN:VEVENT
CATEGORIES:Radsport
DESCRIPTION:Natur trifft Nervenkitzel\n\nmehr Informationen unter http://pa
 ges.destination.one/de/aletscharena/streaming/detail/Event/e_101117690/uci
 -mountainbike-enduro-weltcup
DTEND;TZID=Europe/Zurich:20260719T180000
DTSTAMP:20260419T231333Z
DTSTART;TZID=Europe/Zurich:20260719T080000
GEO:46.403329;8.135046
LOCATION:UCI Enduro World Cup\, Fieschertalstrasse 1 (ÖV-Hub)\, Fiesch
PRIORITY:4
SEQUENCE:0
SUMMARY:UCI Mountainbike Enduro Weltcup
UID:e_101117690_iv3
URL:http://pages.destination.one/de/aletscharena/streaming/detail/Event/e_1
 01117690/uci-mountainbike-enduro-weltcup
END:VEVENT
BEGIN:VTIMEZONE
TZID:Europe/Zurich
X-LIC-LOCATION:Europe/Zurich
BEGIN:DAYLIGHT
DTSTART:19700329T020000
RRULE:FREQ=YEARLY;BYDAY=-1SU;BYMONTH=3
TZNAME:CEST
TZOFFSETFROM:+0100
TZOFFSETTO:+0200
END:DAYLIGHT
BEGIN:STANDARD
DTSTART:19701025T030000
RRULE:FREQ=YEARLY;BYDAY=-1SU;BYMONTH=10
TZNAME:CET
TZOFFSETFROM:+0200
TZOFFSETTO:+0100
END:STANDARD
END:VTIMEZONE
END:VCALENDAR
