BEGIN:VCALENDAR
VERSION:2.0
PRODID:-//destination.one//NONSGML destination.meta API//DE
X-WR-CALDESC:A calendar powered by destination.meta
X-WR-CALNAME:aletscharena Kalender via destination.meta
BEGIN:VEVENT
CATEGORIES:Gastronomie
CATEGORIES:Ballsport
CATEGORIES:Show
DESCRIPTION:Fussball Weltmeisterschaft 2026\n\nmehr Informationen unter htt
 p://pages.destination.one/de/aletscharena/streaming/detail/Event/e_1011255
 11/wm-arena-public-viewing
DTEND;TZID=Europe/Zurich:20260612T000000
DTSTAMP:20260419T223233Z
DTSTART;TZID=Europe/Zurich:20260611T210000
GEO:46.403303;8.135097
LOCATION:Nellenboden\, \, Fiesch
ORGANIZER;CN=Kulturkommission Gemeinde Fiesch:mailto:info@gemeinde-fiesch.c
 h
SEQUENCE:0
SUMMARY:WM-Arena Public Viewing
UID:e_101125511_iv0
URL:http://pages.destination.one/de/aletscharena/streaming/detail/Event/e_1
 01125511/wm-arena-public-viewing
END:VEVENT
BEGIN:VEVENT
CATEGORIES:Gastronomie
CATEGORIES:Ballsport
CATEGORIES:Show
DESCRIPTION:Fussball Weltmeisterschaft 2026\n\nmehr Informationen unter htt
 p://pages.destination.one/de/aletscharena/streaming/detail/Event/e_1011255
 11/wm-arena-public-viewing
DTEND;TZID=Europe/Zurich:20260613T000000
DTSTAMP:20260419T223233Z
DTSTART;TZID=Europe/Zurich:20260612T210000
GEO:46.403303;8.135097
LOCATION:Nellenboden\, \, Fiesch
ORGANIZER;CN=Kulturkommission Gemeinde Fiesch:mailto:info@gemeinde-fiesch.c
 h
SEQUENCE:0
SUMMARY:WM-Arena Public Viewing
UID:e_101125511_iv1
URL:http://pages.destination.one/de/aletscharena/streaming/detail/Event/e_1
 01125511/wm-arena-public-viewing
END:VEVENT
BEGIN:VEVENT
CATEGORIES:Gastronomie
CATEGORIES:Ballsport
CATEGORIES:Show
DESCRIPTION:Fussball Weltmeisterschaft 2026\n\nmehr Informationen unter htt
 p://pages.destination.one/de/aletscharena/streaming/detail/Event/e_1011255
 11/wm-arena-public-viewing
DTEND;TZID=Europe/Zurich:20260614T000000
DTSTAMP:20260419T223233Z
DTSTART;TZID=Europe/Zurich:20260613T210000
GEO:46.403303;8.135097
LOCATION:Nellenboden\, \, Fiesch
ORGANIZER;CN=Kulturkommission Gemeinde Fiesch:mailto:info@gemeinde-fiesch.c
 h
SEQUENCE:0
SUMMARY:WM-Arena Public Viewing
UID:e_101125511_iv2
URL:http://pages.destination.one/de/aletscharena/streaming/detail/Event/e_1
 01125511/wm-arena-public-viewing
END:VEVENT
BEGIN:VEVENT
CATEGORIES:Gastronomie
CATEGORIES:Ballsport
CATEGORIES:Show
DESCRIPTION:Fussball Weltmeisterschaft 2026\n\nmehr Informationen unter htt
 p://pages.destination.one/de/aletscharena/streaming/detail/Event/e_1011255
 11/wm-arena-public-viewing
DTEND;TZID=Europe/Zurich:20260614T210000
DTSTAMP:20260419T223233Z
DTSTART;TZID=Europe/Zurich:20260614T190000
GEO:46.403303;8.135097
LOCATION:Nellenboden\, \, Fiesch
ORGANIZER;CN=Kulturkommission Gemeinde Fiesch:mailto:info@gemeinde-fiesch.c
 h
SEQUENCE:0
SUMMARY:WM-Arena Public Viewing
UID:e_101125511_iv3
URL:http://pages.destination.one/de/aletscharena/streaming/detail/Event/e_1
 01125511/wm-arena-public-viewing
END:VEVENT
BEGIN:VEVENT
CATEGORIES:Gastronomie
CATEGORIES:Ballsport
CATEGORIES:Show
DESCRIPTION:Fussball Weltmeisterschaft 2026\n\nmehr Informationen unter htt
 p://pages.destination.one/de/aletscharena/streaming/detail/Event/e_1011255
 11/wm-arena-public-viewing
DTEND;TZID=Europe/Zurich:20260615T210000
DTSTAMP:20260419T223233Z
DTSTART;TZID=Europe/Zurich:20260615T180000
GEO:46.403303;8.135097
LOCATION:Nellenboden\, \, Fiesch
ORGANIZER;CN=Kulturkommission Gemeinde Fiesch:mailto:info@gemeinde-fiesch.c
 h
SEQUENCE:0
SUMMARY:WM-Arena Public Viewing
UID:e_101125511_iv4
URL:http://pages.destination.one/de/aletscharena/streaming/detail/Event/e_1
 01125511/wm-arena-public-viewing
END:VEVENT
BEGIN:VEVENT
CATEGORIES:Gastronomie
CATEGORIES:Ballsport
CATEGORIES:Show
DESCRIPTION:Fussball Weltmeisterschaft 2026\n\nmehr Informationen unter htt
 p://pages.destination.one/de/aletscharena/streaming/detail/Event/e_1011255
 11/wm-arena-public-viewing
DTEND;TZID=Europe/Zurich:20260616T000000
DTSTAMP:20260419T223233Z
DTSTART;TZID=Europe/Zurich:20260615T210000
GEO:46.403303;8.135097
LOCATION:Nellenboden\, \, Fiesch
ORGANIZER;CN=Kulturkommission Gemeinde Fiesch:mailto:info@gemeinde-fiesch.c
 h
SEQUENCE:0
SUMMARY:WM-Arena Public Viewing
UID:e_101125511_iv5
URL:http://pages.destination.one/de/aletscharena/streaming/detail/Event/e_1
 01125511/wm-arena-public-viewing
END:VEVENT
BEGIN:VEVENT
CATEGORIES:Gastronomie
CATEGORIES:Ballsport
CATEGORIES:Show
DESCRIPTION:Fussball Weltmeisterschaft 2026\n\nmehr Informationen unter htt
 p://pages.destination.one/de/aletscharena/streaming/detail/Event/e_1011255
 11/wm-arena-public-viewing
DTEND;TZID=Europe/Zurich:20260617T000000
DTSTAMP:20260419T223233Z
DTSTART;TZID=Europe/Zurich:20260616T210000
GEO:46.403303;8.135097
LOCATION:Nellenboden\, \, Fiesch
ORGANIZER;CN=Kulturkommission Gemeinde Fiesch:mailto:info@gemeinde-fiesch.c
 h
SEQUENCE:0
SUMMARY:WM-Arena Public Viewing
UID:e_101125511_iv6
URL:http://pages.destination.one/de/aletscharena/streaming/detail/Event/e_1
 01125511/wm-arena-public-viewing
END:VEVENT
BEGIN:VEVENT
CATEGORIES:Gastronomie
CATEGORIES:Ballsport
CATEGORIES:Show
DESCRIPTION:Fussball Weltmeisterschaft 2026\n\nmehr Informationen unter htt
 p://pages.destination.one/de/aletscharena/streaming/detail/Event/e_1011255
 11/wm-arena-public-viewing
DTEND;TZID=Europe/Zurich:20260617T210000
DTSTAMP:20260419T223233Z
DTSTART;TZID=Europe/Zurich:20260617T190000
GEO:46.403303;8.135097
LOCATION:Nellenboden\, \, Fiesch
ORGANIZER;CN=Kulturkommission Gemeinde Fiesch:mailto:info@gemeinde-fiesch.c
 h
SEQUENCE:0
SUMMARY:WM-Arena Public Viewing
UID:e_101125511_iv7
URL:http://pages.destination.one/de/aletscharena/streaming/detail/Event/e_1
 01125511/wm-arena-public-viewing
END:VEVENT
BEGIN:VEVENT
CATEGORIES:Gastronomie
CATEGORIES:Ballsport
CATEGORIES:Show
DESCRIPTION:Fussball Weltmeisterschaft 2026\n\nmehr Informationen unter htt
 p://pages.destination.one/de/aletscharena/streaming/detail/Event/e_1011255
 11/wm-arena-public-viewing
DTEND;TZID=Europe/Zurich:20260618T210000
DTSTAMP:20260419T223233Z
DTSTART;TZID=Europe/Zurich:20260618T190000
GEO:46.403303;8.135097
LOCATION:Nellenboden\, \, Fiesch
ORGANIZER;CN=Kulturkommission Gemeinde Fiesch:mailto:info@gemeinde-fiesch.c
 h
SEQUENCE:0
SUMMARY:WM-Arena Public Viewing
UID:e_101125511_iv8
URL:http://pages.destination.one/de/aletscharena/streaming/detail/Event/e_1
 01125511/wm-arena-public-viewing
END:VEVENT
BEGIN:VEVENT
CATEGORIES:Gastronomie
CATEGORIES:Ballsport
CATEGORIES:Show
DESCRIPTION:Fussball Weltmeisterschaft 2026\n\nmehr Informationen unter htt
 p://pages.destination.one/de/aletscharena/streaming/detail/Event/e_1011255
 11/wm-arena-public-viewing
DTEND;TZID=Europe/Zurich:20260619T000000
DTSTAMP:20260419T223233Z
DTSTART;TZID=Europe/Zurich:20260618T210000
GEO:46.403303;8.135097
LOCATION:Nellenboden\, \, Fiesch
ORGANIZER;CN=Kulturkommission Gemeinde Fiesch:mailto:info@gemeinde-fiesch.c
 h
SEQUENCE:0
SUMMARY:WM-Arena Public Viewing
UID:e_101125511_iv9
URL:http://pages.destination.one/de/aletscharena/streaming/detail/Event/e_1
 01125511/wm-arena-public-viewing
END:VEVENT
BEGIN:VEVENT
CATEGORIES:Gastronomie
CATEGORIES:Ballsport
CATEGORIES:Show
DESCRIPTION:Fussball Weltmeisterschaft 2026\n\nmehr Informationen unter htt
 p://pages.destination.one/de/aletscharena/streaming/detail/Event/e_1011255
 11/wm-arena-public-viewing
DTEND;TZID=Europe/Zurich:20260620T000000
DTSTAMP:20260419T223233Z
DTSTART;TZID=Europe/Zurich:20260619T210000
GEO:46.403303;8.135097
LOCATION:Nellenboden\, \, Fiesch
ORGANIZER;CN=Kulturkommission Gemeinde Fiesch:mailto:info@gemeinde-fiesch.c
 h
SEQUENCE:0
SUMMARY:WM-Arena Public Viewing
UID:e_101125511_iv10
URL:http://pages.destination.one/de/aletscharena/streaming/detail/Event/e_1
 01125511/wm-arena-public-viewing
END:VEVENT
BEGIN:VEVENT
CATEGORIES:Gastronomie
CATEGORIES:Ballsport
CATEGORIES:Show
DESCRIPTION:Fussball Weltmeisterschaft 2026\n\nmehr Informationen unter htt
 p://pages.destination.one/de/aletscharena/streaming/detail/Event/e_1011255
 11/wm-arena-public-viewing
DTEND;TZID=Europe/Zurich:20260620T210000
DTSTAMP:20260419T223233Z
DTSTART;TZID=Europe/Zurich:20260620T190000
GEO:46.403303;8.135097
LOCATION:Nellenboden\, \, Fiesch
ORGANIZER;CN=Kulturkommission Gemeinde Fiesch:mailto:info@gemeinde-fiesch.c
 h
SEQUENCE:0
SUMMARY:WM-Arena Public Viewing
UID:e_101125511_iv11
URL:http://pages.destination.one/de/aletscharena/streaming/detail/Event/e_1
 01125511/wm-arena-public-viewing
END:VEVENT
BEGIN:VEVENT
CATEGORIES:Gastronomie
CATEGORIES:Ballsport
CATEGORIES:Show
DESCRIPTION:Fussball Weltmeisterschaft 2026\n\nmehr Informationen unter htt
 p://pages.destination.one/de/aletscharena/streaming/detail/Event/e_1011255
 11/wm-arena-public-viewing
DTEND;TZID=Europe/Zurich:20260621T210000
DTSTAMP:20260419T223233Z
DTSTART;TZID=Europe/Zurich:20260621T180000
GEO:46.403303;8.135097
LOCATION:Nellenboden\, \, Fiesch
ORGANIZER;CN=Kulturkommission Gemeinde Fiesch:mailto:info@gemeinde-fiesch.c
 h
SEQUENCE:0
SUMMARY:WM-Arena Public Viewing
UID:e_101125511_iv12
URL:http://pages.destination.one/de/aletscharena/streaming/detail/Event/e_1
 01125511/wm-arena-public-viewing
END:VEVENT
BEGIN:VEVENT
CATEGORIES:Gastronomie
CATEGORIES:Ballsport
CATEGORIES:Show
DESCRIPTION:Fussball Weltmeisterschaft 2026\n\nmehr Informationen unter htt
 p://pages.destination.one/de/aletscharena/streaming/detail/Event/e_1011255
 11/wm-arena-public-viewing
DTEND;TZID=Europe/Zurich:20260622T000000
DTSTAMP:20260419T223233Z
DTSTART;TZID=Europe/Zurich:20260621T210000
GEO:46.403303;8.135097
LOCATION:Nellenboden\, \, Fiesch
ORGANIZER;CN=Kulturkommission Gemeinde Fiesch:mailto:info@gemeinde-fiesch.c
 h
SEQUENCE:0
SUMMARY:WM-Arena Public Viewing
UID:e_101125511_iv13
URL:http://pages.destination.one/de/aletscharena/streaming/detail/Event/e_1
 01125511/wm-arena-public-viewing
END:VEVENT
BEGIN:VEVENT
CATEGORIES:Gastronomie
CATEGORIES:Ballsport
CATEGORIES:Show
DESCRIPTION:Fussball Weltmeisterschaft 2026\n\nmehr Informationen unter htt
 p://pages.destination.one/de/aletscharena/streaming/detail/Event/e_1011255
 11/wm-arena-public-viewing
DTEND;TZID=Europe/Zurich:20260622T220000
DTSTAMP:20260419T223233Z
DTSTART;TZID=Europe/Zurich:20260622T190000
GEO:46.403303;8.135097
LOCATION:Nellenboden\, \, Fiesch
ORGANIZER;CN=Kulturkommission Gemeinde Fiesch:mailto:info@gemeinde-fiesch.c
 h
SEQUENCE:0
SUMMARY:WM-Arena Public Viewing
UID:e_101125511_iv14
URL:http://pages.destination.one/de/aletscharena/streaming/detail/Event/e_1
 01125511/wm-arena-public-viewing
END:VEVENT
BEGIN:VEVENT
CATEGORIES:Gastronomie
CATEGORIES:Ballsport
CATEGORIES:Show
DESCRIPTION:Fussball Weltmeisterschaft 2026\n\nmehr Informationen unter htt
 p://pages.destination.one/de/aletscharena/streaming/detail/Event/e_1011255
 11/wm-arena-public-viewing
DTEND;TZID=Europe/Zurich:20260623T210000
DTSTAMP:20260419T223233Z
DTSTART;TZID=Europe/Zurich:20260623T190000
GEO:46.403303;8.135097
LOCATION:Nellenboden\, \, Fiesch
ORGANIZER;CN=Kulturkommission Gemeinde Fiesch:mailto:info@gemeinde-fiesch.c
 h
SEQUENCE:0
SUMMARY:WM-Arena Public Viewing
UID:e_101125511_iv15
URL:http://pages.destination.one/de/aletscharena/streaming/detail/Event/e_1
 01125511/wm-arena-public-viewing
END:VEVENT
BEGIN:VEVENT
CATEGORIES:Gastronomie
CATEGORIES:Ballsport
CATEGORIES:Show
DESCRIPTION:Fussball Weltmeisterschaft 2026\n\nmehr Informationen unter htt
 p://pages.destination.one/de/aletscharena/streaming/detail/Event/e_1011255
 11/wm-arena-public-viewing
DTEND;TZID=Europe/Zurich:20260625T000000
DTSTAMP:20260419T223233Z
DTSTART;TZID=Europe/Zurich:20260624T210000
GEO:46.403303;8.135097
LOCATION:Nellenboden\, \, Fiesch
ORGANIZER;CN=Kulturkommission Gemeinde Fiesch:mailto:info@gemeinde-fiesch.c
 h
SEQUENCE:0
SUMMARY:WM-Arena Public Viewing
UID:e_101125511_iv16
URL:http://pages.destination.one/de/aletscharena/streaming/detail/Event/e_1
 01125511/wm-arena-public-viewing
END:VEVENT
BEGIN:VEVENT
CATEGORIES:Gastronomie
CATEGORIES:Ballsport
CATEGORIES:Show
DESCRIPTION:Fussball Weltmeisterschaft 2026\n\nmehr Informationen unter htt
 p://pages.destination.one/de/aletscharena/streaming/detail/Event/e_1011255
 11/wm-arena-public-viewing
DTEND;TZID=Europe/Zurich:20260627T000000
DTSTAMP:20260419T223233Z
DTSTART;TZID=Europe/Zurich:20260626T210000
GEO:46.403303;8.135097
LOCATION:Nellenboden\, \, Fiesch
ORGANIZER;CN=Kulturkommission Gemeinde Fiesch:mailto:info@gemeinde-fiesch.c
 h
SEQUENCE:0
SUMMARY:WM-Arena Public Viewing
UID:e_101125511_iv17
URL:http://pages.destination.one/de/aletscharena/streaming/detail/Event/e_1
 01125511/wm-arena-public-viewing
END:VEVENT
BEGIN:VEVENT
CATEGORIES:Gastronomie
CATEGORIES:Ballsport
CATEGORIES:Show
DESCRIPTION:Fussball Weltmeisterschaft 2026\n\nmehr Informationen unter htt
 p://pages.destination.one/de/aletscharena/streaming/detail/Event/e_1011255
 11/wm-arena-public-viewing
DTEND;TZID=Europe/Zurich:20260628T230000
DTSTAMP:20260419T223233Z
DTSTART;TZID=Europe/Zurich:20260628T200000
GEO:46.403303;8.135097
LOCATION:Nellenboden\, \, Fiesch
ORGANIZER;CN=Kulturkommission Gemeinde Fiesch:mailto:info@gemeinde-fiesch.c
 h
SEQUENCE:0
SUMMARY:WM-Arena Public Viewing
UID:e_101125511_iv18
URL:http://pages.destination.one/de/aletscharena/streaming/detail/Event/e_1
 01125511/wm-arena-public-viewing
END:VEVENT
BEGIN:VEVENT
CATEGORIES:Gastronomie
CATEGORIES:Ballsport
CATEGORIES:Show
DESCRIPTION:Fussball Weltmeisterschaft 2026\n\nmehr Informationen unter htt
 p://pages.destination.one/de/aletscharena/streaming/detail/Event/e_1011255
 11/wm-arena-public-viewing
DTEND;TZID=Europe/Zurich:20260629T230000
DTSTAMP:20260419T223233Z
DTSTART;TZID=Europe/Zurich:20260629T200000
GEO:46.403303;8.135097
LOCATION:Nellenboden\, \, Fiesch
ORGANIZER;CN=Kulturkommission Gemeinde Fiesch:mailto:info@gemeinde-fiesch.c
 h
SEQUENCE:0
SUMMARY:WM-Arena Public Viewing
UID:e_101125511_iv19
URL:http://pages.destination.one/de/aletscharena/streaming/detail/Event/e_1
 01125511/wm-arena-public-viewing
END:VEVENT
BEGIN:VEVENT
CATEGORIES:Gastronomie
CATEGORIES:Ballsport
CATEGORIES:Show
DESCRIPTION:Fussball Weltmeisterschaft 2026\n\nmehr Informationen unter htt
 p://pages.destination.one/de/aletscharena/streaming/detail/Event/e_1011255
 11/wm-arena-public-viewing
DTEND;TZID=Europe/Zurich:20260630T230000
DTSTAMP:20260419T223233Z
DTSTART;TZID=Europe/Zurich:20260630T200000
GEO:46.403303;8.135097
LOCATION:Nellenboden\, \, Fiesch
ORGANIZER;CN=Kulturkommission Gemeinde Fiesch:mailto:info@gemeinde-fiesch.c
 h
SEQUENCE:0
SUMMARY:WM-Arena Public Viewing
UID:e_101125511_iv20
URL:http://pages.destination.one/de/aletscharena/streaming/detail/Event/e_1
 01125511/wm-arena-public-viewing
END:VEVENT
BEGIN:VEVENT
CATEGORIES:Gastronomie
CATEGORIES:Ballsport
CATEGORIES:Show
DESCRIPTION:Fussball Weltmeisterschaft 2026\n\nmehr Informationen unter htt
 p://pages.destination.one/de/aletscharena/streaming/detail/Event/e_1011255
 11/wm-arena-public-viewing
DTEND;TZID=Europe/Zurich:20260701T230000
DTSTAMP:20260419T223233Z
DTSTART;TZID=Europe/Zurich:20260701T200000
GEO:46.403303;8.135097
LOCATION:Nellenboden\, \, Fiesch
ORGANIZER;CN=Kulturkommission Gemeinde Fiesch:mailto:info@gemeinde-fiesch.c
 h
SEQUENCE:0
SUMMARY:WM-Arena Public Viewing
UID:e_101125511_iv21
URL:http://pages.destination.one/de/aletscharena/streaming/detail/Event/e_1
 01125511/wm-arena-public-viewing
END:VEVENT
BEGIN:VEVENT
CATEGORIES:Gastronomie
CATEGORIES:Ballsport
CATEGORIES:Show
DESCRIPTION:Fussball Weltmeisterschaft 2026\n\nmehr Informationen unter htt
 p://pages.destination.one/de/aletscharena/streaming/detail/Event/e_1011255
 11/wm-arena-public-viewing
DTEND;TZID=Europe/Zurich:20260702T230000
DTSTAMP:20260419T223233Z
DTSTART;TZID=Europe/Zurich:20260702T200000
GEO:46.403303;8.135097
LOCATION:Nellenboden\, \, Fiesch
ORGANIZER;CN=Kulturkommission Gemeinde Fiesch:mailto:info@gemeinde-fiesch.c
 h
SEQUENCE:0
SUMMARY:WM-Arena Public Viewing
UID:e_101125511_iv22
URL:http://pages.destination.one/de/aletscharena/streaming/detail/Event/e_1
 01125511/wm-arena-public-viewing
END:VEVENT
BEGIN:VEVENT
CATEGORIES:Gastronomie
CATEGORIES:Ballsport
CATEGORIES:Show
DESCRIPTION:Fussball Weltmeisterschaft 2026\n\nmehr Informationen unter htt
 p://pages.destination.one/de/aletscharena/streaming/detail/Event/e_1011255
 11/wm-arena-public-viewing
DTEND;TZID=Europe/Zurich:20260703T230000
DTSTAMP:20260419T223233Z
DTSTART;TZID=Europe/Zurich:20260703T200000
GEO:46.403303;8.135097
LOCATION:Nellenboden\, \, Fiesch
ORGANIZER;CN=Kulturkommission Gemeinde Fiesch:mailto:info@gemeinde-fiesch.c
 h
SEQUENCE:0
SUMMARY:WM-Arena Public Viewing
UID:e_101125511_iv23
URL:http://pages.destination.one/de/aletscharena/streaming/detail/Event/e_1
 01125511/wm-arena-public-viewing
END:VEVENT
BEGIN:VEVENT
CATEGORIES:Gastronomie
CATEGORIES:Ballsport
CATEGORIES:Show
DESCRIPTION:Fussball Weltmeisterschaft 2026\n\nmehr Informationen unter htt
 p://pages.destination.one/de/aletscharena/streaming/detail/Event/e_1011255
 11/wm-arena-public-viewing
DTEND;TZID=Europe/Zurich:20260704T230000
DTSTAMP:20260419T223233Z
DTSTART;TZID=Europe/Zurich:20260704T200000
GEO:46.403303;8.135097
LOCATION:Nellenboden\, \, Fiesch
ORGANIZER;CN=Kulturkommission Gemeinde Fiesch:mailto:info@gemeinde-fiesch.c
 h
SEQUENCE:0
SUMMARY:WM-Arena Public Viewing
UID:e_101125511_iv24
URL:http://pages.destination.one/de/aletscharena/streaming/detail/Event/e_1
 01125511/wm-arena-public-viewing
END:VEVENT
BEGIN:VEVENT
CATEGORIES:Gastronomie
CATEGORIES:Ballsport
CATEGORIES:Show
DESCRIPTION:Fussball Weltmeisterschaft 2026\n\nmehr Informationen unter htt
 p://pages.destination.one/de/aletscharena/streaming/detail/Event/e_1011255
 11/wm-arena-public-viewing
DTEND;TZID=Europe/Zurich:20260705T230000
DTSTAMP:20260419T223233Z
DTSTART;TZID=Europe/Zurich:20260705T200000
GEO:46.403303;8.135097
LOCATION:Nellenboden\, \, Fiesch
ORGANIZER;CN=Kulturkommission Gemeinde Fiesch:mailto:info@gemeinde-fiesch.c
 h
SEQUENCE:0
SUMMARY:WM-Arena Public Viewing
UID:e_101125511_iv25
URL:http://pages.destination.one/de/aletscharena/streaming/detail/Event/e_1
 01125511/wm-arena-public-viewing
END:VEVENT
BEGIN:VEVENT
CATEGORIES:Gastronomie
CATEGORIES:Ballsport
CATEGORIES:Show
DESCRIPTION:Fussball Weltmeisterschaft 2026\n\nmehr Informationen unter htt
 p://pages.destination.one/de/aletscharena/streaming/detail/Event/e_1011255
 11/wm-arena-public-viewing
DTEND;TZID=Europe/Zurich:20260706T230000
DTSTAMP:20260419T223233Z
DTSTART;TZID=Europe/Zurich:20260706T200000
GEO:46.403303;8.135097
LOCATION:Nellenboden\, \, Fiesch
ORGANIZER;CN=Kulturkommission Gemeinde Fiesch:mailto:info@gemeinde-fiesch.c
 h
SEQUENCE:0
SUMMARY:WM-Arena Public Viewing
UID:e_101125511_iv26
URL:http://pages.destination.one/de/aletscharena/streaming/detail/Event/e_1
 01125511/wm-arena-public-viewing
END:VEVENT
BEGIN:VEVENT
CATEGORIES:Gastronomie
CATEGORIES:Ballsport
CATEGORIES:Show
DESCRIPTION:Fussball Weltmeisterschaft 2026\n\nmehr Informationen unter htt
 p://pages.destination.one/de/aletscharena/streaming/detail/Event/e_1011255
 11/wm-arena-public-viewing
DTEND;TZID=Europe/Zurich:20260707T230000
DTSTAMP:20260419T223233Z
DTSTART;TZID=Europe/Zurich:20260707T200000
GEO:46.403303;8.135097
LOCATION:Nellenboden\, \, Fiesch
ORGANIZER;CN=Kulturkommission Gemeinde Fiesch:mailto:info@gemeinde-fiesch.c
 h
SEQUENCE:0
SUMMARY:WM-Arena Public Viewing
UID:e_101125511_iv27
URL:http://pages.destination.one/de/aletscharena/streaming/detail/Event/e_1
 01125511/wm-arena-public-viewing
END:VEVENT
BEGIN:VEVENT
CATEGORIES:Gastronomie
CATEGORIES:Ballsport
CATEGORIES:Show
DESCRIPTION:Fussball Weltmeisterschaft 2026\n\nmehr Informationen unter htt
 p://pages.destination.one/de/aletscharena/streaming/detail/Event/e_1011255
 11/wm-arena-public-viewing
DTEND;TZID=Europe/Zurich:20260709T230000
DTSTAMP:20260419T223233Z
DTSTART;TZID=Europe/Zurich:20260709T200000
GEO:46.403303;8.135097
LOCATION:Nellenboden\, \, Fiesch
ORGANIZER;CN=Kulturkommission Gemeinde Fiesch:mailto:info@gemeinde-fiesch.c
 h
SEQUENCE:0
SUMMARY:WM-Arena Public Viewing
UID:e_101125511_iv28
URL:http://pages.destination.one/de/aletscharena/streaming/detail/Event/e_1
 01125511/wm-arena-public-viewing
END:VEVENT
BEGIN:VEVENT
CATEGORIES:Gastronomie
CATEGORIES:Ballsport
CATEGORIES:Show
DESCRIPTION:Fussball Weltmeisterschaft 2026\n\nmehr Informationen unter htt
 p://pages.destination.one/de/aletscharena/streaming/detail/Event/e_1011255
 11/wm-arena-public-viewing
DTEND;TZID=Europe/Zurich:20260710T230000
DTSTAMP:20260419T223233Z
DTSTART;TZID=Europe/Zurich:20260710T200000
GEO:46.403303;8.135097
LOCATION:Nellenboden\, \, Fiesch
ORGANIZER;CN=Kulturkommission Gemeinde Fiesch:mailto:info@gemeinde-fiesch.c
 h
SEQUENCE:0
SUMMARY:WM-Arena Public Viewing
UID:e_101125511_iv29
URL:http://pages.destination.one/de/aletscharena/streaming/detail/Event/e_1
 01125511/wm-arena-public-viewing
END:VEVENT
BEGIN:VEVENT
CATEGORIES:Gastronomie
CATEGORIES:Ballsport
CATEGORIES:Show
DESCRIPTION:Fussball Weltmeisterschaft 2026\n\nmehr Informationen unter htt
 p://pages.destination.one/de/aletscharena/streaming/detail/Event/e_1011255
 11/wm-arena-public-viewing
DTEND;TZID=Europe/Zurich:20260711T230000
DTSTAMP:20260419T223233Z
DTSTART;TZID=Europe/Zurich:20260711T200000
GEO:46.403303;8.135097
LOCATION:Nellenboden\, \, Fiesch
ORGANIZER;CN=Kulturkommission Gemeinde Fiesch:mailto:info@gemeinde-fiesch.c
 h
SEQUENCE:0
SUMMARY:WM-Arena Public Viewing
UID:e_101125511_iv30
URL:http://pages.destination.one/de/aletscharena/streaming/detail/Event/e_1
 01125511/wm-arena-public-viewing
END:VEVENT
BEGIN:VEVENT
CATEGORIES:Gastronomie
CATEGORIES:Ballsport
CATEGORIES:Show
DESCRIPTION:Fussball Weltmeisterschaft 2026\n\nmehr Informationen unter htt
 p://pages.destination.one/de/aletscharena/streaming/detail/Event/e_1011255
 11/wm-arena-public-viewing
DTEND;TZID=Europe/Zurich:20260714T230000
DTSTAMP:20260419T223233Z
DTSTART;TZID=Europe/Zurich:20260714T200000
GEO:46.403303;8.135097
LOCATION:Nellenboden\, \, Fiesch
ORGANIZER;CN=Kulturkommission Gemeinde Fiesch:mailto:info@gemeinde-fiesch.c
 h
SEQUENCE:0
SUMMARY:WM-Arena Public Viewing
UID:e_101125511_iv31
URL:http://pages.destination.one/de/aletscharena/streaming/detail/Event/e_1
 01125511/wm-arena-public-viewing
END:VEVENT
BEGIN:VEVENT
CATEGORIES:Gastronomie
CATEGORIES:Ballsport
CATEGORIES:Show
DESCRIPTION:Fussball Weltmeisterschaft 2026\n\nmehr Informationen unter htt
 p://pages.destination.one/de/aletscharena/streaming/detail/Event/e_1011255
 11/wm-arena-public-viewing
DTEND;TZID=Europe/Zurich:20260715T230000
DTSTAMP:20260419T223233Z
DTSTART;TZID=Europe/Zurich:20260715T200000
GEO:46.403303;8.135097
LOCATION:Nellenboden\, \, Fiesch
ORGANIZER;CN=Kulturkommission Gemeinde Fiesch:mailto:info@gemeinde-fiesch.c
 h
SEQUENCE:0
SUMMARY:WM-Arena Public Viewing
UID:e_101125511_iv32
URL:http://pages.destination.one/de/aletscharena/streaming/detail/Event/e_1
 01125511/wm-arena-public-viewing
END:VEVENT
BEGIN:VEVENT
CATEGORIES:Gastronomie
CATEGORIES:Ballsport
CATEGORIES:Show
DESCRIPTION:Fussball Weltmeisterschaft 2026\n\nmehr Informationen unter htt
 p://pages.destination.one/de/aletscharena/streaming/detail/Event/e_1011255
 11/wm-arena-public-viewing
DTEND;TZID=Europe/Zurich:20260718T230000
DTSTAMP:20260419T223233Z
DTSTART;TZID=Europe/Zurich:20260718T200000
GEO:46.403303;8.135097
LOCATION:Nellenboden\, \, Fiesch
ORGANIZER;CN=Kulturkommission Gemeinde Fiesch:mailto:info@gemeinde-fiesch.c
 h
SEQUENCE:0
SUMMARY:WM-Arena Public Viewing
UID:e_101125511_iv33
URL:http://pages.destination.one/de/aletscharena/streaming/detail/Event/e_1
 01125511/wm-arena-public-viewing
END:VEVENT
BEGIN:VEVENT
CATEGORIES:Gastronomie
CATEGORIES:Ballsport
CATEGORIES:Show
DESCRIPTION:Fussball Weltmeisterschaft 2026\n\nmehr Informationen unter htt
 p://pages.destination.one/de/aletscharena/streaming/detail/Event/e_1011255
 11/wm-arena-public-viewing
DTEND;TZID=Europe/Zurich:20260719T230000
DTSTAMP:20260419T223233Z
DTSTART;TZID=Europe/Zurich:20260719T200000
GEO:46.403303;8.135097
LOCATION:Nellenboden\, \, Fiesch
ORGANIZER;CN=Kulturkommission Gemeinde Fiesch:mailto:info@gemeinde-fiesch.c
 h
SEQUENCE:0
SUMMARY:WM-Arena Public Viewing
UID:e_101125511_iv34
URL:http://pages.destination.one/de/aletscharena/streaming/detail/Event/e_1
 01125511/wm-arena-public-viewing
END:VEVENT
BEGIN:VTIMEZONE
TZID:Europe/Zurich
X-LIC-LOCATION:Europe/Zurich
BEGIN:DAYLIGHT
DTSTART:19700329T020000
RRULE:FREQ=YEARLY;BYDAY=-1SU;BYMONTH=3
TZNAME:CEST
TZOFFSETFROM:+0100
TZOFFSETTO:+0200
END:DAYLIGHT
BEGIN:STANDARD
DTSTART:19701025T030000
RRULE:FREQ=YEARLY;BYDAY=-1SU;BYMONTH=10
TZNAME:CET
TZOFFSETFROM:+0200
TZOFFSETTO:+0100
END:STANDARD
END:VTIMEZONE
END:VCALENDAR
