BEGIN:VCALENDAR
VERSION:2.0
PRODID:-//destination.one//NONSGML destination.meta API//DE
X-WR-CALDESC:A calendar powered by destination.meta
X-WR-CALNAME:aletscharena Kalender via destination.meta
BEGIN:VEVENT
CATEGORIES:Kultur
CATEGORIES:Musical
DESCRIPTION:Projektwoche Sommer 2026\n\nmehr Informationen unter http://pag
 es.destination.one/de/aletscharena/streaming/detail/Event/e_101151345/musi
 cal-akademie-voicesteps
DTEND;TZID=Europe/Zurich:20260712T170000
DTSTAMP:20260419T231034Z
DTSTART;TZID=Europe/Zurich:20260712T090000
GEO:46.390014;8.062527
LOCATION:Zentrum St. Michael\, \, Bettmeralp
ORGANIZER;CN=VoiceSteps:mailto:cartier@schmidpellipartner.ch
RRULE:FREQ=DAILY;UNTIL=20260717T150000
SEQUENCE:0
SUMMARY:Musical Akademie VoiceSteps
UID:e_101151345_iv0
URL:http://pages.destination.one/de/aletscharena/streaming/detail/Event/e_1
 01151345/musical-akademie-voicesteps
END:VEVENT
BEGIN:VTIMEZONE
TZID:Europe/Zurich
X-LIC-LOCATION:Europe/Zurich
BEGIN:DAYLIGHT
DTSTART:19700329T020000
RRULE:FREQ=YEARLY;BYDAY=-1SU;BYMONTH=3
TZNAME:CEST
TZOFFSETFROM:+0100
TZOFFSETTO:+0200
END:DAYLIGHT
BEGIN:STANDARD
DTSTART:19701025T030000
RRULE:FREQ=YEARLY;BYDAY=-1SU;BYMONTH=10
TZNAME:CET
TZOFFSETFROM:+0200
TZOFFSETTO:+0100
END:STANDARD
END:VTIMEZONE
END:VCALENDAR
