BEGIN:VCALENDAR
VERSION:2.0
PRODID:-//destination.one//NONSGML destination.meta API//DE
X-WR-CALDESC:A calendar powered by destination.meta
X-WR-CALNAME:aletscharena Kalender via destination.meta
BEGIN:VEVENT
CATEGORIES:Ausstellung
CATEGORIES:Messe
DESCRIPTION:Region zeigt Zukunft\n\nmehr Informationen unter http://pages.d
 estination.one/de/aletscharena/streaming/detail/Event/e_101158201/forum-al
 etsch-goms
DTEND;TZID=Europe/Zurich:20260430T220000
DTSTAMP:20260420T151056Z
DTSTART;TZID=Europe/Zurich:20260430T180000
GEO:46.407094;8.136325
LOCATION:Tennis- und Fitnesscenter\, \, Fiesch
ORGANIZER;CN=Gewerbeverein Aletsch-Goms:mailto:info@gewerbeverein-aletschgo
 ms.ch
SEQUENCE:0
SUMMARY:Forum Aletsch-Goms 
UID:e_101158201_iv0
URL:http://pages.destination.one/de/aletscharena/streaming/detail/Event/e_1
 01158201/forum-aletsch-goms
END:VEVENT
BEGIN:VEVENT
CATEGORIES:Ausstellung
CATEGORIES:Messe
DESCRIPTION:Region zeigt Zukunft\n\nmehr Informationen unter http://pages.d
 estination.one/de/aletscharena/streaming/detail/Event/e_101158201/forum-al
 etsch-goms
DTEND;TZID=Europe/Zurich:20260501T220000
DTSTAMP:20260420T151056Z
DTSTART;TZID=Europe/Zurich:20260501T180000
GEO:46.407094;8.136325
LOCATION:Tennis- und Fitnesscenter\, \, Fiesch
ORGANIZER;CN=Gewerbeverein Aletsch-Goms:mailto:info@gewerbeverein-aletschgo
 ms.ch
SEQUENCE:0
SUMMARY:Forum Aletsch-Goms 
UID:e_101158201_iv1
URL:http://pages.destination.one/de/aletscharena/streaming/detail/Event/e_1
 01158201/forum-aletsch-goms
END:VEVENT
BEGIN:VEVENT
CATEGORIES:Ausstellung
CATEGORIES:Messe
DESCRIPTION:Region zeigt Zukunft\n\nmehr Informationen unter http://pages.d
 estination.one/de/aletscharena/streaming/detail/Event/e_101158201/forum-al
 etsch-goms
DTEND;TZID=Europe/Zurich:20260502T220000
DTSTAMP:20260420T151056Z
DTSTART;TZID=Europe/Zurich:20260502T140000
GEO:46.407094;8.136325
LOCATION:Tennis- und Fitnesscenter\, \, Fiesch
ORGANIZER;CN=Gewerbeverein Aletsch-Goms:mailto:info@gewerbeverein-aletschgo
 ms.ch
SEQUENCE:0
SUMMARY:Forum Aletsch-Goms 
UID:e_101158201_iv2
URL:http://pages.destination.one/de/aletscharena/streaming/detail/Event/e_1
 01158201/forum-aletsch-goms
END:VEVENT
BEGIN:VEVENT
CATEGORIES:Ausstellung
CATEGORIES:Messe
DESCRIPTION:Region zeigt Zukunft\n\nmehr Informationen unter http://pages.d
 estination.one/de/aletscharena/streaming/detail/Event/e_101158201/forum-al
 etsch-goms
DTEND;TZID=Europe/Zurich:20260503T170000
DTSTAMP:20260420T151056Z
DTSTART;TZID=Europe/Zurich:20260503T113000
GEO:46.407094;8.136325
LOCATION:Tennis- und Fitnesscenter\, \, Fiesch
ORGANIZER;CN=Gewerbeverein Aletsch-Goms:mailto:info@gewerbeverein-aletschgo
 ms.ch
SEQUENCE:0
SUMMARY:Forum Aletsch-Goms 
UID:e_101158201_iv3
URL:http://pages.destination.one/de/aletscharena/streaming/detail/Event/e_1
 01158201/forum-aletsch-goms
END:VEVENT
BEGIN:VTIMEZONE
TZID:Europe/Zurich
X-LIC-LOCATION:Europe/Zurich
BEGIN:DAYLIGHT
DTSTART:19700329T020000
RRULE:FREQ=YEARLY;BYDAY=-1SU;BYMONTH=3
TZNAME:CEST
TZOFFSETFROM:+0100
TZOFFSETTO:+0200
END:DAYLIGHT
BEGIN:STANDARD
DTSTART:19701025T030000
RRULE:FREQ=YEARLY;BYDAY=-1SU;BYMONTH=10
TZNAME:CET
TZOFFSETFROM:+0200
TZOFFSETTO:+0100
END:STANDARD
END:VTIMEZONE
END:VCALENDAR
