BEGIN:VCALENDAR
VERSION:2.0
PRODID:-//destination.one//NONSGML destination.meta API//DE
X-WR-CALDESC:A calendar powered by destination.meta
X-WR-CALNAME:aletscharena Kalender via destination.meta
BEGIN:VEVENT
CATEGORIES:Brauchtum
CATEGORIES:Kultur
DESCRIPTION:Tradition\, Kultur\, Geselligkeit\n\nmehr Informationen unter h
 ttp://pages.destination.one/de/aletscharena/streaming/detail/Event/e_10118
 3186/420-jahre-alph-tte-nagulschbalmu
DTEND;TZID=Europe/Zurich:20260613T170000
DTSTAMP:20260419T225524Z
DTSTART;TZID=Europe/Zurich:20260613T110000
GEO:46.380037;8.029418
LOCATION:Alpmuseum\, \, Riederalp
ORGANIZER;CN=Verein 1606 Alpmuseum:mailto:robertabrigger@gmail.com
SEQUENCE:0
SUMMARY:420 Jahre Alphütte Nagulschbalmu
UID:e_101183186_iv0
URL:http://pages.destination.one/de/aletscharena/streaming/detail/Event/e_1
 01183186/420-jahre-alph-tte-nagulschbalmu
END:VEVENT
BEGIN:VEVENT
CATEGORIES:Brauchtum
CATEGORIES:Kultur
DESCRIPTION:Tradition\, Kultur\, Geselligkeit\n\nmehr Informationen unter h
 ttp://pages.destination.one/de/aletscharena/streaming/detail/Event/e_10118
 3186/420-jahre-alph-tte-nagulschbalmu
DTEND;TZID=Europe/Zurich:20260614T170000
DTSTAMP:20260419T225524Z
DTSTART;TZID=Europe/Zurich:20260614T103000
GEO:46.380037;8.029418
LOCATION:Alpmuseum\, \, Riederalp
ORGANIZER;CN=Verein 1606 Alpmuseum:mailto:robertabrigger@gmail.com
SEQUENCE:0
SUMMARY:420 Jahre Alphütte Nagulschbalmu
UID:e_101183186_iv1
URL:http://pages.destination.one/de/aletscharena/streaming/detail/Event/e_1
 01183186/420-jahre-alph-tte-nagulschbalmu
END:VEVENT
BEGIN:VTIMEZONE
TZID:Europe/Zurich
X-LIC-LOCATION:Europe/Zurich
BEGIN:DAYLIGHT
DTSTART:19700329T020000
RRULE:FREQ=YEARLY;BYDAY=-1SU;BYMONTH=3
TZNAME:CEST
TZOFFSETFROM:+0100
TZOFFSETTO:+0200
END:DAYLIGHT
BEGIN:STANDARD
DTSTART:19701025T030000
RRULE:FREQ=YEARLY;BYDAY=-1SU;BYMONTH=10
TZNAME:CET
TZOFFSETFROM:+0200
TZOFFSETTO:+0100
END:STANDARD
END:VTIMEZONE
END:VCALENDAR
