BEGIN:VCALENDAR
VERSION:2.0
PRODID:-//destination.one//NONSGML destination.meta API//DE
X-WR-CALDESC:A calendar powered by destination.meta
X-WR-CALNAME:aletscharena Kalender via destination.meta
BEGIN:VEVENT
CATEGORIES:Kino
DESCRIPTION:Film ab\n\nmehr Informationen unter http://pages.destination.on
 e/de/aletscharena/streaming/detail/Event/e_101217676/solarkino
DTEND;TZID=Europe/Zurich:20260801T223000
DTSTAMP:20260419T222742Z
DTSTART;TZID=Europe/Zurich:20260801T200000
GEO:46.376551;8.016168
LOCATION:Pro Natura Zentrum Aletsch\, Villa Cassel\, Riederalp
ORGANIZER;CN=Pro Natura Zentrum Aletsch:mailto:aletsch@pronatura.ch
RRULE:FREQ=DAILY;UNTIL=20260801T203000
SEQUENCE:0
SUMMARY:Solarkino
UID:e_101217676_iv0
URL:http://pages.destination.one/de/aletscharena/streaming/detail/Event/e_1
 01217676/solarkino
END:VEVENT
BEGIN:VEVENT
CATEGORIES:Kino
DESCRIPTION:Film ab\n\nmehr Informationen unter http://pages.destination.on
 e/de/aletscharena/streaming/detail/Event/e_101217676/solarkino
DTEND;TZID=Europe/Zurich:20260803T223000
DTSTAMP:20260419T222742Z
DTSTART;TZID=Europe/Zurich:20260803T200000
GEO:46.376551;8.016168
LOCATION:Pro Natura Zentrum Aletsch\, Villa Cassel\, Riederalp
ORGANIZER;CN=Pro Natura Zentrum Aletsch:mailto:aletsch@pronatura.ch
RRULE:FREQ=DAILY;UNTIL=20260807T203000
SEQUENCE:0
SUMMARY:Solarkino
UID:e_101217676_iv1
URL:http://pages.destination.one/de/aletscharena/streaming/detail/Event/e_1
 01217676/solarkino
END:VEVENT
BEGIN:VTIMEZONE
TZID:Europe/Zurich
X-LIC-LOCATION:Europe/Zurich
BEGIN:DAYLIGHT
DTSTART:19700329T020000
RRULE:FREQ=YEARLY;BYDAY=-1SU;BYMONTH=3
TZNAME:CEST
TZOFFSETFROM:+0100
TZOFFSETTO:+0200
END:DAYLIGHT
BEGIN:STANDARD
DTSTART:19701025T030000
RRULE:FREQ=YEARLY;BYDAY=-1SU;BYMONTH=10
TZNAME:CET
TZOFFSETFROM:+0200
TZOFFSETTO:+0100
END:STANDARD
END:VTIMEZONE
END:VCALENDAR
